BEGIN:VCALENDAR
VERSION:2.0
PRODID:-//Bullitt County Public Library - ECPv5.16.4//NONSGML v1.0//EN
CALSCALE:GREGORIAN
METHOD:PUBLISH
X-WR-CALNAME:Bullitt County Public Library
X-ORIGINAL-URL:https://bcplib.org
X-WR-CALDESC:Events for Bullitt County Public Library
BEGIN:VTIMEZONE
TZID:America/Kentucky/Louisville
BEGIN:DAYLIGHT
TZOFFSETFROM:-0500
TZOFFSETTO:-0400
TZNAME:EDT
DTSTART:20190310T070000
END:DAYLIGHT
BEGIN:STANDARD
TZOFFSETFROM:-0400
TZOFFSETTO:-0500
TZNAME:EST
DTSTART:20191103T060000
END:STANDARD
END:VTIMEZONE
BEGIN:VEVENT
DTSTART;TZID=America/Kentucky/Louisville:20190202T140000
DTEND;TZID=America/Kentucky/Louisville:20190202T150000
DTSTAMP:20260422T222731
CREATED:20190107T193940Z
LAST-MODIFIED:20190111T154900Z
UID:44261-1549116000-1549119600@bcplib.org
SUMMARY:Groundhog Day Party
DESCRIPTION:Six more weeks of winter or an early spring—let’s celebrate either way! \nWhether the groundhog sees his shadow and we get a prediction of six more weeks of winter or a cloudy day serves as a harbinger of spring\, we’ll get our party on! Bring the whole family to enjoy fun and engaging activity stations that will help you learn more about groundhogs and this unusual holiday. Plus\, grown-ups and kids alike can let loose and get a little silly in our photo booth! \nStation 1: Shadow Stage\nStop by our Shadow Stage to cast your own shadows—and learn a bit about how shadows work. \nStation 2: Groundhog Shadow Craft\nCome color your own groundhog. Don’t forget to add his shadow! We’ll show you how. \nStation 3: Groundhog Day Photo Booth\nGet in the groundhog spirit! Ham it up and pose for photos using a variety of fun props we’ll provide. \nStation 4: Library Seek & Find\nDiscover fun facts about groundhogs and this annual celebration as you go on an easy scavenger hunt in the library! Complete the hunt during the program for a chance to win a $10 Walmart gift card. \nPsst… Don’t forget to stop by Hillview Branch Library BEFORE Groundhog Day to make your predictions! Will Punxsutawney Phil see his shadow and predict 6 more weeks of winter weather\, or will we get an early spring? Cast your vote from Monday\, January 28th to Friday\, February 1st. Correct predictions will be entered in a drawing for a $10 Walmart gift card! \nFor all ages. Just drop in!\nSpace will be available on a first-come\, first-served basis. Questions? E-mail brandy@bcplib.org. \n  \n  \n  \n  \n 
URL:https://bcplib.org/event/groundhog-day-party/
LOCATION:Hillview Branch\, 155 Terry Boulevard\, Hillview\, KY\, 40229\, United States
CATEGORIES:Kids,Family
GEO:38.077247;-85.688966
X-APPLE-STRUCTURED-LOCATION;VALUE=URI;X-ADDRESS=Hillview Branch 155 Terry Boulevard Hillview KY 40229 United States;X-APPLE-RADIUS=500;X-TITLE=155 Terry Boulevard:geo:-85.688966,38.077247
END:VEVENT
END:VCALENDAR