BEGIN:VCALENDAR
VERSION:2.0
PRODID:-//Bullitt County Public Library - ECPv5.16.4//NONSGML v1.0//EN
CALSCALE:GREGORIAN
METHOD:PUBLISH
X-WR-CALNAME:Bullitt County Public Library
X-ORIGINAL-URL:https://bcplib.org
X-WR-CALDESC:Events for Bullitt County Public Library
BEGIN:VTIMEZONE
TZID:America/Kentucky/Louisville
BEGIN:DAYLIGHT
TZOFFSETFROM:-0500
TZOFFSETTO:-0400
TZNAME:EDT
DTSTART:20170312T070000
END:DAYLIGHT
BEGIN:STANDARD
TZOFFSETFROM:-0400
TZOFFSETTO:-0500
TZNAME:EST
DTSTART:20171105T060000
END:STANDARD
END:VTIMEZONE
BEGIN:VEVENT
DTSTART;TZID=America/Kentucky/Louisville:20171219T180000
DTEND;TZID=America/Kentucky/Louisville:20171219T190000
DTSTAMP:20260423T140634
CREATED:20171114T200602Z
LAST-MODIFIED:20171128T182759Z
UID:21188-1513706400-1513710000@bcplib.org
SUMMARY:Gifts That Glitter
DESCRIPTION:Don’t forget anyone on your Christmas list!\nCome be creative with watercolors and glitter\, and take home a gift they’ll love to get. \nBe sure to wear old clothes\, because you may get messy. \nFor ages 5–12. Registration is required for a select number of guaranteed seats. Additional seating will be available on the day of the event on a first-come\, first-served basis. Questions? Call Brandy at 543-7675 ext. \n\n\n 
URL:https://bcplib.org/event/gifts-that-glitter-3/
LOCATION:Lebanon Junction Branch\, 11382 S. Preston Highway\, Lebanon Junction\, KY\, 40150\, United States
CATEGORIES:Tweens,Kids
GEO:37.8417678;-85.7287508
X-APPLE-STRUCTURED-LOCATION;VALUE=URI;X-ADDRESS=Lebanon Junction Branch 11382 S. Preston Highway Lebanon Junction KY 40150 United States;X-APPLE-RADIUS=500;X-TITLE=11382 S. Preston Highway:geo:-85.7287508,37.8417678
END:VEVENT
END:VCALENDAR