BEGIN:VCALENDAR
VERSION:2.0
PRODID:-//Bullitt County Public Library - ECPv5.16.4//NONSGML v1.0//EN
CALSCALE:GREGORIAN
METHOD:PUBLISH
X-WR-CALNAME:Bullitt County Public Library
X-ORIGINAL-URL:https://bcplib.org
X-WR-CALDESC:Events for Bullitt County Public Library
BEGIN:VTIMEZONE
TZID:America/Kentucky/Louisville
BEGIN:DAYLIGHT
TZOFFSETFROM:-0500
TZOFFSETTO:-0400
TZNAME:EDT
DTSTART:20170312T070000
END:DAYLIGHT
BEGIN:STANDARD
TZOFFSETFROM:-0400
TZOFFSETTO:-0500
TZNAME:EST
DTSTART:20171105T060000
END:STANDARD
END:VTIMEZONE
BEGIN:VEVENT
DTSTART;TZID=America/Kentucky/Louisville:20171212T180000
DTEND;TZID=America/Kentucky/Louisville:20171212T190000
DTSTAMP:20260423T221140
CREATED:20171114T200241Z
LAST-MODIFIED:20171128T182805Z
UID:21184-1513101600-1513105200@bcplib.org
SUMMARY:Gifts That Glitter
DESCRIPTION:Don’t forget anyone on your Christmas list!\nCome be creative with watercolors and glitter\, and take home a gift they’ll love to get. \nBe sure to wear old clothes\, because you may get messy. \nFor ages 5–12. Registration is required for a select number of guaranteed seats. Additional seating will be available on the day of the event on a first-come\, first-served basis. \n\n\n 
URL:https://bcplib.org/event/gifts-that-glitter-2/
LOCATION:Ridgway Memorial Library\, 127 N. Walnut Street\, Shepherdsville\, KY\, 40165\, United States
CATEGORIES:Tweens,Kids
GEO:38.001133520394;-85.706045160467
X-APPLE-STRUCTURED-LOCATION;VALUE=URI;X-ADDRESS=Ridgway Memorial Library 127 N. Walnut Street Shepherdsville KY 40165 United States;X-APPLE-RADIUS=500;X-TITLE=127 N. Walnut Street:geo:-85.706045160467,38.001133520394
END:VEVENT
END:VCALENDAR