BEGIN:VCALENDAR
VERSION:2.0
PRODID:-//Bullitt County Public Library - ECPv5.16.4//NONSGML v1.0//EN
CALSCALE:GREGORIAN
METHOD:PUBLISH
X-WR-CALNAME:Bullitt County Public Library
X-ORIGINAL-URL:https://bcplib.org
X-WR-CALDESC:Events for Bullitt County Public Library
BEGIN:VTIMEZONE
TZID:America/Kentucky/Louisville
BEGIN:DAYLIGHT
TZOFFSETFROM:-0500
TZOFFSETTO:-0400
TZNAME:EDT
DTSTART:20180311T070000
END:DAYLIGHT
BEGIN:STANDARD
TZOFFSETFROM:-0400
TZOFFSETTO:-0500
TZNAME:EST
DTSTART:20181104T060000
END:STANDARD
END:VTIMEZONE
BEGIN:VEVENT
DTSTART;TZID=America/Kentucky/Louisville:20180731T090000
DTEND;TZID=America/Kentucky/Louisville:20180731T140000
DTSTAMP:20260425T164736
CREATED:20170327T163959Z
LAST-MODIFIED:20191030T133130Z
UID:4415-1533027600-1533045600@bcplib.org
SUMMARY:GED Prep (Math)
DESCRIPTION:BCPL has partnered with Kentucky Adult Education’s SkillsU to offer free assistance for GED prep. An experienced instructor will be on-site to administer assessment testing and create personalized instruction plans to help patrons work toward their GED.  Beginning in August\, Doyle provides math skills assistance every Tuesday from 9:00 AM to 12:00 PM. \nFor more information or to schedule an appointment\, contact JCTC instructor Doyle Adams at 502-213-7908 or 502-213-7979. You may also contact BCPL’s Trish Patton for additional program information or technical support.
URL:https://bcplib.org/event/ged-prep/2018-07-31/
LOCATION:Lebanon Junction Branch\, 11382 S. Preston Highway\, Lebanon Junction\, KY\, 40150\, United States
CATEGORIES:Adults
ORGANIZER;CN="Trish":MAILTO:tpatton@bcplib.org
GEO:37.8417678;-85.7287508
X-APPLE-STRUCTURED-LOCATION;VALUE=URI;X-ADDRESS=Lebanon Junction Branch 11382 S. Preston Highway Lebanon Junction KY 40150 United States;X-APPLE-RADIUS=500;X-TITLE=11382 S. Preston Highway:geo:-85.7287508,37.8417678
END:VEVENT
END:VCALENDAR