BEGIN:VCALENDAR
VERSION:2.0
PRODID:-//Bullitt County Public Library - ECPv5.16.4//NONSGML v1.0//EN
CALSCALE:GREGORIAN
METHOD:PUBLISH
X-WR-CALNAME:Bullitt County Public Library
X-ORIGINAL-URL:https://bcplib.org
X-WR-CALDESC:Events for Bullitt County Public Library
BEGIN:VTIMEZONE
TZID:America/Kentucky/Louisville
BEGIN:DAYLIGHT
TZOFFSETFROM:-0500
TZOFFSETTO:-0400
TZNAME:EDT
DTSTART:20180311T070000
END:DAYLIGHT
BEGIN:STANDARD
TZOFFSETFROM:-0400
TZOFFSETTO:-0500
TZNAME:EST
DTSTART:20181104T060000
END:STANDARD
END:VTIMEZONE
BEGIN:VEVENT
DTSTART;TZID=America/Kentucky/Louisville:20180809T160000
DTEND;TZID=America/Kentucky/Louisville:20180809T190000
DTSTAMP:20260424T153655
CREATED:20180727T191812Z
LAST-MODIFIED:20180727T191812Z
UID:34347-1533830400-1533841200@bcplib.org
SUMMARY:GED Prep (Reading & Language Arts)
DESCRIPTION:BCPL has partnered with Kentucky Adult Education’s SkillsU to offer free assistance for GED prep. An experienced instructor will be on-site to administer assessment testing and create personalized instruction plans to help patrons work toward their GED.  For more information\, please contact Mona\, branch manager for Hillview Branch Library. \nBeginning the week of August 6th\, assistance will be available on the following schedule: \nEvery Tuesday\nGED Math\, 4:00–7:00 PM\n\nEvery Thursday\nGED Reading\, 4:00–7:00 PM
URL:https://bcplib.org/event/ged-prep-reading-language-arts/2018-08-09/
CATEGORIES:Adults
END:VEVENT
END:VCALENDAR