BEGIN:VCALENDAR
VERSION:2.0
PRODID:-//Bullitt County Public Library - ECPv5.16.4//NONSGML v1.0//EN
CALSCALE:GREGORIAN
METHOD:PUBLISH
X-WR-CALNAME:Bullitt County Public Library
X-ORIGINAL-URL:https://bcplib.org
X-WR-CALDESC:Events for Bullitt County Public Library
BEGIN:VTIMEZONE
TZID:America/Kentucky/Louisville
BEGIN:DAYLIGHT
TZOFFSETFROM:-0500
TZOFFSETTO:-0400
TZNAME:EDT
DTSTART:20190310T070000
END:DAYLIGHT
BEGIN:STANDARD
TZOFFSETFROM:-0400
TZOFFSETTO:-0500
TZNAME:EST
DTSTART:20191103T060000
END:STANDARD
END:VTIMEZONE
BEGIN:VEVENT
DTSTART;TZID=America/Kentucky/Louisville:20190110T100000
DTEND;TZID=America/Kentucky/Louisville:20190110T120000
DTSTAMP:20260422T124432
CREATED:20181207T194540Z
LAST-MODIFIED:20181207T194812Z
UID:42703-1547114400-1547121600@bcplib.org
SUMMARY:Frozen Sing-Along
DESCRIPTION:Rating: PG Runtime: 1 hr. 49 min.\nDoes the winter weather have you stuck inside and feeling bummed? \nLet it go\, and join us for a sing-along with Frozen! Let Olaf and the gang bring a little warmth to your heart as you sing along to your favorite songs from the film. If you don’t know the words or if this is your first time watching Anna and Elsa\, the words to the songs will light up at the bottom of the screen so you can still sing along! \nFor ages 0–5.\nRegistration is required for a select number of reserved seats. Additional seating will be available on a first-come\, first-served basis. Questions? E-mail brandy@bcplib.org.
URL:https://bcplib.org/event/frozen-sing-along/
LOCATION:Hillview Branch\, 155 Terry Boulevard\, Hillview\, KY\, 40229\, United States
CATEGORIES:Kids
GEO:38.077247;-85.688966
X-APPLE-STRUCTURED-LOCATION;VALUE=URI;X-ADDRESS=Hillview Branch 155 Terry Boulevard Hillview KY 40229 United States;X-APPLE-RADIUS=500;X-TITLE=155 Terry Boulevard:geo:-85.688966,38.077247
END:VEVENT
END:VCALENDAR