BEGIN:VCALENDAR
VERSION:2.0
PRODID:-//Bullitt County Public Library - ECPv5.16.4//NONSGML v1.0//EN
CALSCALE:GREGORIAN
METHOD:PUBLISH
X-WR-CALNAME:Bullitt County Public Library
X-ORIGINAL-URL:https://bcplib.org
X-WR-CALDESC:Events for Bullitt County Public Library
BEGIN:VTIMEZONE
TZID:America/Kentucky/Louisville
BEGIN:DAYLIGHT
TZOFFSETFROM:-0500
TZOFFSETTO:-0400
TZNAME:EDT
DTSTART:20190310T070000
END:DAYLIGHT
BEGIN:STANDARD
TZOFFSETFROM:-0400
TZOFFSETTO:-0500
TZNAME:EST
DTSTART:20191103T060000
END:STANDARD
END:VTIMEZONE
BEGIN:VEVENT
DTSTART;TZID=America/Kentucky/Louisville:20190107T180000
DTEND;TZID=America/Kentucky/Louisville:20190107T193500
DTSTAMP:20260422T080359
CREATED:20181210T193808Z
LAST-MODIFIED:20181210T194823Z
UID:42799-1546884000-1546889700@bcplib.org
SUMMARY:Family Movie Night
DESCRIPTION:Rating: PG Runtime: 1 hr. 32 min.\nWatch great family movies for free at the library! \nThis month\, join us for Teen Titans Go! To the Movies. With all the major superheroes starring in their own movies\, the Teen Titans decide it is their turn to be in the spotlight. Armed with a plan\, the Teen Titans travel to Hollywood to try to fulfill their dreams. But their plans—along with the fate of the world—is put on the line when a supervillain tries to take over the planet. \nDrinks and snacks will be provided. \nFor all ages. Just drop in! \nSeating will be available on a first-come\, first-served basis. \n\nFamily Movie Night Schedule:\n1st Monday of the month @Hillview\n2nd Thursday of the month @Lebanon Junction\n3rd Thursday of the month @Mt. Washington\n4th Thursday of the month @Ridgway Memorial\nMovies begin at 6:00 PM unless otherwise noted.
URL:https://bcplib.org/event/fmw-hl-jan/
LOCATION:Hillview Branch\, 155 Terry Boulevard\, Hillview\, KY\, 40229\, United States
CATEGORIES:Teens,Tweens,Kids,Family
GEO:38.077247;-85.688966
X-APPLE-STRUCTURED-LOCATION;VALUE=URI;X-ADDRESS=Hillview Branch 155 Terry Boulevard Hillview KY 40229 United States;X-APPLE-RADIUS=500;X-TITLE=155 Terry Boulevard:geo:-85.688966,38.077247
END:VEVENT
END:VCALENDAR