BEGIN:VCALENDAR
VERSION:2.0
PRODID:-//Bullitt County Public Library - ECPv5.16.4//NONSGML v1.0//EN
CALSCALE:GREGORIAN
METHOD:PUBLISH
X-WR-CALNAME:Bullitt County Public Library
X-ORIGINAL-URL:https://bcplib.org
X-WR-CALDESC:Events for Bullitt County Public Library
BEGIN:VTIMEZONE
TZID:America/Kentucky/Louisville
BEGIN:DAYLIGHT
TZOFFSETFROM:-0500
TZOFFSETTO:-0400
TZNAME:EDT
DTSTART:20210314T070000
END:DAYLIGHT
BEGIN:STANDARD
TZOFFSETFROM:-0400
TZOFFSETTO:-0500
TZNAME:EST
DTSTART:20211107T060000
END:STANDARD
END:VTIMEZONE
BEGIN:VEVENT
DTSTART;TZID=America/Kentucky/Louisville:20211214T180000
DTEND;TZID=America/Kentucky/Louisville:20211214T194000
DTSTAMP:20260422T144032
CREATED:20211004T190745Z
LAST-MODIFIED:20211004T190930Z
UID:97461-1639504800-1639510800@bcplib.org
SUMMARY:Family Movie Night
DESCRIPTION:Rating: PGRuntime: 1 hr. 37 min.\nWatch great family movies for free at the library! \nThis month\, join us for The Santa Clause. \nDESCRIPTION: A man accidentally causes Santa to fall off of his roof on Christmas Eve\, and then finds himself magically recruited to take his place. \nFor all ages. Just drop in! \nSeating will be available on a first-come\, first-served basis. Questions? E-mail jillian@bcplib.org.
URL:https://bcplib.org/event/fmn-lj-12-2021/
LOCATION:Lebanon Junction Branch\, 11382 S. Preston Highway\, Lebanon Junction\, KY\, 40150\, United States
CATEGORIES:Adults,Teens,Tweens,Kids,Family
ORGANIZER;CN="Jillian":MAILTO:jillian@bcplib.org
GEO:37.8417678;-85.7287508
X-APPLE-STRUCTURED-LOCATION;VALUE=URI;X-ADDRESS=Lebanon Junction Branch 11382 S. Preston Highway Lebanon Junction KY 40150 United States;X-APPLE-RADIUS=500;X-TITLE=11382 S. Preston Highway:geo:-85.7287508,37.8417678
END:VEVENT
END:VCALENDAR