BEGIN:VCALENDAR
VERSION:2.0
PRODID:-//Bullitt County Public Library - ECPv5.16.4//NONSGML v1.0//EN
CALSCALE:GREGORIAN
METHOD:PUBLISH
X-WR-CALNAME:Bullitt County Public Library
X-ORIGINAL-URL:https://bcplib.org
X-WR-CALDESC:Events for Bullitt County Public Library
BEGIN:VTIMEZONE
TZID:America/Kentucky/Louisville
BEGIN:DAYLIGHT
TZOFFSETFROM:-0500
TZOFFSETTO:-0400
TZNAME:EDT
DTSTART:20180311T070000
END:DAYLIGHT
BEGIN:STANDARD
TZOFFSETFROM:-0400
TZOFFSETTO:-0500
TZNAME:EST
DTSTART:20181104T060000
END:STANDARD
END:VTIMEZONE
BEGIN:VEVENT
DTSTART;TZID=America/Kentucky/Louisville:20181105T180000
DTEND;TZID=America/Kentucky/Louisville:20181105T200500
DTSTAMP:20260423T163815
CREATED:20181022T222602Z
LAST-MODIFIED:20181022T223959Z
UID:40188-1541440800-1541448300@bcplib.org
SUMMARY:Family Movie Night
DESCRIPTION:Rating: PGRuntime: 2 hr. 5 min.\nWatch great family movies for free at the library! \nThis month\, join us for Incredibles 2. The Parrs\, a family of superheroes\, face a new challenge in this highly anticipated sequel. While Mr. Incredible\, Elastigirl\, Violet\, Dash\, and Jack-Jack are trying to balance family life with their superhero work\, they must also contend with a new foe determined to turn the public against superheroes! \nDrinks and snacks are provided. \nFor all ages. Just drop in! \nSeating will be available on a first-come\, first-served basis. \n\nFamily Movie Night Schedule:\n1st Monday of the month @Hillview\n2nd Thursday of the month @Lebanon Junction\n3rd Thursday of the month @Mt. Washington\n4th Thursday of the month @Ridgway Memorial* \n*Please note\, there will be no Family Movie Night at Ridgway Memorial in November due to the Thanksgiving holiday.\nMovies begin at 6:00 PM unless otherwise noted.
URL:https://bcplib.org/event/fmn-hl-nov/
LOCATION:Hillview Branch\, 155 Terry Boulevard\, Hillview\, KY\, 40229\, United States
CATEGORIES:Teens,Tweens,Kids,Family
GEO:38.077247;-85.688966
X-APPLE-STRUCTURED-LOCATION;VALUE=URI;X-ADDRESS=Hillview Branch 155 Terry Boulevard Hillview KY 40229 United States;X-APPLE-RADIUS=500;X-TITLE=155 Terry Boulevard:geo:-85.688966,38.077247
END:VEVENT
END:VCALENDAR