BEGIN:VCALENDAR
VERSION:2.0
PRODID:-//Bullitt County Public Library - ECPv5.16.4//NONSGML v1.0//EN
CALSCALE:GREGORIAN
METHOD:PUBLISH
X-WR-CALNAME:Bullitt County Public Library
X-ORIGINAL-URL:https://bcplib.org
X-WR-CALDESC:Events for Bullitt County Public Library
BEGIN:VTIMEZONE
TZID:America/Kentucky/Louisville
BEGIN:DAYLIGHT
TZOFFSETFROM:-0500
TZOFFSETTO:-0400
TZNAME:EDT
DTSTART:20220313T070000
END:DAYLIGHT
BEGIN:STANDARD
TZOFFSETFROM:-0400
TZOFFSETTO:-0500
TZNAME:EST
DTSTART:20221106T060000
END:STANDARD
END:VTIMEZONE
BEGIN:VEVENT
DTSTART;TZID=America/Kentucky/Louisville:20220707T180000
DTEND;TZID=America/Kentucky/Louisville:20220707T193000
DTSTAMP:20260421T173438
CREATED:20220602T173731Z
LAST-MODIFIED:20220602T173731Z
UID:102661-1657216800-1657222200@bcplib.org
SUMMARY:Family Movie Night
DESCRIPTION:Rating: GRuntime: 1 hr. 23 min.\nWatch great family movies for free at the library! \nThis month\, join us for The Little Mermaid. \nDESCRIPTION:  Even though her father has forbidden her to swim to the surface\, a young mermaid fascinated with life on land and a dashing prince strikes a deal with a sea witch to become human\, \nFor all ages. Just drop in! \nLight refreshments will be provided. Seating will be available on a first-come\, first-served basis. Questions? Call Ms. Brandy at 543-7675 ext. 2552 or e-mail brandy@bcplib.org.
URL:https://bcplib.org/event/fmn-hl-jul2022/
LOCATION:Hillview Branch\, 155 Terry Boulevard\, Hillview\, KY\, 40229\, United States
CATEGORIES:Tweens,Kids,Family
GEO:38.077247;-85.688966
X-APPLE-STRUCTURED-LOCATION;VALUE=URI;X-ADDRESS=Hillview Branch 155 Terry Boulevard Hillview KY 40229 United States;X-APPLE-RADIUS=500;X-TITLE=155 Terry Boulevard:geo:-85.688966,38.077247
END:VEVENT
END:VCALENDAR