BEGIN:VCALENDAR
VERSION:2.0
PRODID:-//Bullitt County Public Library - ECPv5.16.4//NONSGML v1.0//EN
CALSCALE:GREGORIAN
METHOD:PUBLISH
X-WR-CALNAME:Bullitt County Public Library
X-ORIGINAL-URL:https://bcplib.org
X-WR-CALDESC:Events for Bullitt County Public Library
BEGIN:VTIMEZONE
TZID:America/Kentucky/Louisville
BEGIN:DAYLIGHT
TZOFFSETFROM:-0500
TZOFFSETTO:-0400
TZNAME:EDT
DTSTART:20190310T070000
END:DAYLIGHT
BEGIN:STANDARD
TZOFFSETFROM:-0400
TZOFFSETTO:-0500
TZNAME:EST
DTSTART:20191103T060000
END:STANDARD
END:VTIMEZONE
BEGIN:VEVENT
DTSTART;TZID=America/Kentucky/Louisville:20190204T180000
DTEND;TZID=America/Kentucky/Louisville:20190204T195000
DTSTAMP:20260423T053256
CREATED:20190107T160832Z
LAST-MODIFIED:20190107T161026Z
UID:44486-1549303200-1549309800@bcplib.org
SUMMARY:Family Movie Night
DESCRIPTION:Rating: PG Runtime: 1 hr. 49 min.\nWatch great family movies for free at the library! \nThis month\, join us for Smallfoot. Migo the friendly yeti’s world is forever changed when he discovers that the mysterious creatures known as humans really do exist. When no one in his village believes his discovery\, he is banished from his home. Migo decides to embark on a journey to find the elusive creature so he can prove his story and regain the trust of his community. \nDrinks and snacks will be provided. \nFor all ages. Just drop in! \nSeating will be available on a first-come\, first-served basis. \n\nFamily Movie Night Schedule:\n1st Monday of the month @Hillview\n2nd Thursday of the month @Lebanon Junction\n3rd Thursday of the month @Mt. Washington\n4th Thursday of the month @Ridgway Memorial\nMovies begin at 6:00 PM unless otherwise noted.
URL:https://bcplib.org/event/fmn-feb-hl/
LOCATION:Hillview Branch\, 155 Terry Boulevard\, Hillview\, KY\, 40229\, United States
CATEGORIES:Tweens,Kids,Family
GEO:38.077247;-85.688966
X-APPLE-STRUCTURED-LOCATION;VALUE=URI;X-ADDRESS=Hillview Branch 155 Terry Boulevard Hillview KY 40229 United States;X-APPLE-RADIUS=500;X-TITLE=155 Terry Boulevard:geo:-85.688966,38.077247
END:VEVENT
END:VCALENDAR