BEGIN:VCALENDAR
VERSION:2.0
PRODID:-//Bullitt County Public Library - ECPv5.16.4//NONSGML v1.0//EN
CALSCALE:GREGORIAN
METHOD:PUBLISH
X-WR-CALNAME:Bullitt County Public Library
X-ORIGINAL-URL:https://bcplib.org
X-WR-CALDESC:Events for Bullitt County Public Library
BEGIN:VTIMEZONE
TZID:America/Kentucky/Louisville
BEGIN:DAYLIGHT
TZOFFSETFROM:-0500
TZOFFSETTO:-0400
TZNAME:EDT
DTSTART:20220313T070000
END:DAYLIGHT
BEGIN:STANDARD
TZOFFSETFROM:-0400
TZOFFSETTO:-0500
TZNAME:EST
DTSTART:20221106T060000
END:STANDARD
END:VTIMEZONE
BEGIN:VEVENT
DTSTART;TZID=America/Kentucky/Louisville:20220421T180000
DTEND;TZID=America/Kentucky/Louisville:20220421T200000
DTSTAMP:20260422T020435
CREATED:20220318T144731Z
LAST-MODIFIED:20220318T144731Z
UID:101241-1650564000-1650571200@bcplib.org
SUMMARY:Family Movie Night
DESCRIPTION:Rating: PGRuntime: 1 hr. 52 min.\nWatch great family movies for free at the library! \nThis month\, join us for Sing 2. \nDESCRIPTION: Theater owner Buster Moon sets his sights on producing a brand-new musical with his troupe in the glamorous Redshore City. To gain the support of a ruthless music mogul\, he pitches that he’ll feature Clay Calloway\, a legendary but elusive rock singer as part of the show. Now\, all the group needs to do is find the recluse and persuade him to perform with them. \nFor all ages. Just drop in! \nLight refreshments will be provided. Seating will be available on a first-come\, first-served basis. Questions? E-mail angel@bcplib.org.
URL:https://bcplib.org/event/fmn-apr-2022/
LOCATION:Mt. Washington Branch\, 214 N. Bardstown Road\, Mt. Washington\, KY\, 40047\, United States
CATEGORIES:Tweens,Kids,Family
ORGANIZER;CN="Angel":MAILTO:angel@bcplib.org
GEO:38.0492119;-85.5430434
X-APPLE-STRUCTURED-LOCATION;VALUE=URI;X-ADDRESS=Mt. Washington Branch 214 N. Bardstown Road Mt. Washington KY 40047 United States;X-APPLE-RADIUS=500;X-TITLE=214 N. Bardstown Road:geo:-85.5430434,38.0492119
END:VEVENT
END:VCALENDAR