BEGIN:VCALENDAR
VERSION:2.0
PRODID:-//Bullitt County Public Library - ECPv5.16.4//NONSGML v1.0//EN
CALSCALE:GREGORIAN
METHOD:PUBLISH
X-WR-CALNAME:Bullitt County Public Library
X-ORIGINAL-URL:https://bcplib.org
X-WR-CALDESC:Events for Bullitt County Public Library
BEGIN:VTIMEZONE
TZID:America/Kentucky/Louisville
BEGIN:DAYLIGHT
TZOFFSETFROM:-0500
TZOFFSETTO:-0400
TZNAME:EDT
DTSTART:20200308T070000
END:DAYLIGHT
BEGIN:STANDARD
TZOFFSETFROM:-0400
TZOFFSETTO:-0500
TZNAME:EST
DTSTART:20201101T060000
END:STANDARD
END:VTIMEZONE
BEGIN:VEVENT
DTSTART;TZID=America/Kentucky/Louisville:20200227T180000
DTEND;TZID=America/Kentucky/Louisville:20200227T200000
DTSTAMP:20260423T105406
CREATED:20200103T185442Z
LAST-MODIFIED:20200103T185442Z
UID:71578-1582826400-1582833600@bcplib.org
SUMMARY:Family Movie Night
DESCRIPTION:Rating: PGRuntime: 2 hr.\nWatch great family movies for free at the library! \nThis month\, join us for Maleficent: Mistress of Evil. \nDESCRIPTION: In this sequel to the box office hit Maleficent\, Aurora and Prince Phillip are preparing to wed when Maleficent discovers that a conniving queen—Aurora’s future mother-in-law—is hatching a plot that once again threatens the land’s fairies. As she joins forces with a group of outcasts in the hopes of defeating the queen and her army\, Maleficent’s loving relationship with Aurora is tested. \nFor all ages. Just drop in! \nSeating will be available on a first-come\, first-served basis. \n\nFamily Movie Night Schedule:\n2nd Thursday of the month @Lebanon Junction\n3rd Thursday of the month @Mt. Washington\n4th Thursday of the month @Ridgway Memorial \nMovies begin at 6:00 PM unless otherwise noted.
URL:https://bcplib.org/event/fmn-2-2020-rm/
LOCATION:Ridgway Memorial Library\, 127 N. Walnut Street\, Shepherdsville\, KY\, 40165\, United States
CATEGORIES:Adults,Teens,Tweens,Kids,Family
ORGANIZER;CN="Jill":MAILTO:jill@bcplib.org
GEO:38.001133520394;-85.706045160467
X-APPLE-STRUCTURED-LOCATION;VALUE=URI;X-ADDRESS=Ridgway Memorial Library 127 N. Walnut Street Shepherdsville KY 40165 United States;X-APPLE-RADIUS=500;X-TITLE=127 N. Walnut Street:geo:-85.706045160467,38.001133520394
END:VEVENT
END:VCALENDAR