BEGIN:VCALENDAR
VERSION:2.0
PRODID:-//Bullitt County Public Library - ECPv5.16.4//NONSGML v1.0//EN
CALSCALE:GREGORIAN
METHOD:PUBLISH
X-WR-CALNAME:Bullitt County Public Library
X-ORIGINAL-URL:https://bcplib.org
X-WR-CALDESC:Events for Bullitt County Public Library
BEGIN:VTIMEZONE
TZID:America/Kentucky/Louisville
BEGIN:DAYLIGHT
TZOFFSETFROM:-0500
TZOFFSETTO:-0400
TZNAME:EDT
DTSTART:20220313T070000
END:DAYLIGHT
BEGIN:STANDARD
TZOFFSETFROM:-0400
TZOFFSETTO:-0500
TZNAME:EST
DTSTART:20221106T060000
END:STANDARD
END:VTIMEZONE
BEGIN:VEVENT
DTSTART;TZID=America/Kentucky/Louisville:20220120T180000
DTEND;TZID=America/Kentucky/Louisville:20220120T194500
DTSTAMP:20260422T045259
CREATED:20211209T183141Z
LAST-MODIFIED:20211209T183141Z
UID:98707-1642701600-1642707900@bcplib.org
SUMMARY:Family Movie Night
DESCRIPTION:Rating: PGRuntime: 1 hr. 41 min.\nWatch great family movies for free at the library! \nThis month\, join us for Tom and Jerry. \nDESCRIPTION: Travel through time to when Tom first crossed paths with his spunky mouse nemesis\, Jerry. As the furry foes meet for the first time and butt heads\, so begins a decades-long rivalry full of whimsical hijinks. Based on the original characters developed by William Hanna. \nFor all ages. Just drop in! \nLight refreshments will be provided. Seating will be available on a first-come\, first-served basis. Questions? E-mail angel@bcplib.org.
URL:https://bcplib.org/event/fmn-1-2022/
LOCATION:Mt. Washington Branch\, 214 N. Bardstown Road\, Mt. Washington\, KY\, 40047\, United States
CATEGORIES:Tweens,Kids,Family
ORGANIZER;CN="Angel":MAILTO:angel@bcplib.org
GEO:38.0492119;-85.5430434
X-APPLE-STRUCTURED-LOCATION;VALUE=URI;X-ADDRESS=Mt. Washington Branch 214 N. Bardstown Road Mt. Washington KY 40047 United States;X-APPLE-RADIUS=500;X-TITLE=214 N. Bardstown Road:geo:-85.5430434,38.0492119
END:VEVENT
END:VCALENDAR