BEGIN:VCALENDAR
VERSION:2.0
PRODID:-//Bullitt County Public Library - ECPv5.16.4//NONSGML v1.0//EN
CALSCALE:GREGORIAN
METHOD:PUBLISH
X-WR-CALNAME:Bullitt County Public Library
X-ORIGINAL-URL:https://bcplib.org
X-WR-CALDESC:Events for Bullitt County Public Library
BEGIN:VTIMEZONE
TZID:America/Kentucky/Louisville
BEGIN:DAYLIGHT
TZOFFSETFROM:-0500
TZOFFSETTO:-0400
TZNAME:EDT
DTSTART:20200308T070000
END:DAYLIGHT
BEGIN:STANDARD
TZOFFSETFROM:-0400
TZOFFSETTO:-0500
TZNAME:EST
DTSTART:20201101T060000
END:STANDARD
END:VTIMEZONE
BEGIN:VEVENT
DTSTART;TZID=America/Kentucky/Louisville:20200106T180000
DTEND;TZID=America/Kentucky/Louisville:20200106T194500
DTSTAMP:20260423T120931
CREATED:20191106T202705Z
LAST-MODIFIED:20191106T202825Z
UID:66156-1578333600-1578339900@bcplib.org
SUMMARY:Family Movie Night
DESCRIPTION:Rating: PGRuntime: 1 hr. 42 min.\nWatch great family movies for free at the library! \nThis month\, join us for Dora and the Lost City of Gold. \nDESCRIPTION: Dora spent most of her young life exploring the jungle while her parents search for a lost Incan civilization. When her parents think they have finally found the location\, they send Dora off to high school in LA with her estranged cousin Diego. But when she discovers her parents are missing\, Dora and her friends embark on a journey to save them and solve the mystery behind the lost civilization \nFor all ages. Just drop in! \nSeating will be available on a first-come\, first-served basis. \n\nFamily Movie Night Schedule:\n1st Monday of the month @Hillview\n2nd Thursday of the month @Lebanon Junction\n3rd Thursday of the month @Mt. Washington\n4th Thursday of the month @Ridgway Memorial \nMovies begin at 6:00 PM unless otherwise noted.
URL:https://bcplib.org/event/fmn-1-2020-hl/
LOCATION:Hillview Branch\, 155 Terry Boulevard\, Hillview\, KY\, 40229\, United States
CATEGORIES:Teens,Tweens,Kids,Family
GEO:38.077247;-85.688966
X-APPLE-STRUCTURED-LOCATION;VALUE=URI;X-ADDRESS=Hillview Branch 155 Terry Boulevard Hillview KY 40229 United States;X-APPLE-RADIUS=500;X-TITLE=155 Terry Boulevard:geo:-85.688966,38.077247
END:VEVENT
END:VCALENDAR