BEGIN:VCALENDAR
VERSION:2.0
PRODID:-//Bullitt County Public Library - ECPv5.16.4//NONSGML v1.0//EN
CALSCALE:GREGORIAN
METHOD:PUBLISH
X-WR-CALNAME:Bullitt County Public Library
X-ORIGINAL-URL:https://bcplib.org
X-WR-CALDESC:Events for Bullitt County Public Library
BEGIN:VTIMEZONE
TZID:America/Kentucky/Louisville
BEGIN:DAYLIGHT
TZOFFSETFROM:-0500
TZOFFSETTO:-0400
TZNAME:EDT
DTSTART:20220313T070000
END:DAYLIGHT
BEGIN:STANDARD
TZOFFSETFROM:-0400
TZOFFSETTO:-0500
TZNAME:EST
DTSTART:20221106T060000
END:STANDARD
END:VTIMEZONE
BEGIN:VEVENT
DTSTART;TZID=America/Kentucky/Louisville:20220608T150000
DTEND;TZID=America/Kentucky/Louisville:20220608T160000
DTSTAMP:20260421T211951
CREATED:20220523T145847Z
LAST-MODIFIED:20220523T145847Z
UID:102450-1654700400-1654704000@bcplib.org
SUMMARY:Flip Those Flops!
DESCRIPTION:Turn ordinary accessories into the perfect summer statement…\n \nTurn boring flip-flops and sunglasses into the perfect summer shoes and shades that are uniquely you. Simply choose your foundation pieces\, then “shop” our buffet of beads\, buttons\, flowers\, glitter\, ribbon\, and more to create your perfect summer statement. \nPsst… Don’t forget to pose for the camera to commemorate your custom creations! \nFor children of all ages. Just drop in!\nSpace and supplies will be available on a first-come\, first-served basis. Questions? Contact Ms. Jillian at 543-7675 ext. 2557 or e-mail jillian@bcplib.org.
URL:https://bcplib.org/event/flips-lj/
LOCATION:Lebanon Junction Branch\, 11382 S. Preston Highway\, Lebanon Junction\, KY\, 40150\, United States
CATEGORIES:Tweens,Kids
ORGANIZER;CN="Jillian":MAILTO:jillian@bcplib.org
GEO:37.8417678;-85.7287508
X-APPLE-STRUCTURED-LOCATION;VALUE=URI;X-ADDRESS=Lebanon Junction Branch 11382 S. Preston Highway Lebanon Junction KY 40150 United States;X-APPLE-RADIUS=500;X-TITLE=11382 S. Preston Highway:geo:-85.7287508,37.8417678
END:VEVENT
END:VCALENDAR