BEGIN:VCALENDAR
VERSION:2.0
PRODID:-//Bullitt County Public Library - ECPv5.16.4//NONSGML v1.0//EN
CALSCALE:GREGORIAN
METHOD:PUBLISH
X-WR-CALNAME:Bullitt County Public Library
X-ORIGINAL-URL:https://bcplib.org
X-WR-CALDESC:Events for Bullitt County Public Library
BEGIN:VTIMEZONE
TZID:America/Kentucky/Louisville
BEGIN:DAYLIGHT
TZOFFSETFROM:-0500
TZOFFSETTO:-0400
TZNAME:EDT
DTSTART:20200308T070000
END:DAYLIGHT
BEGIN:STANDARD
TZOFFSETFROM:-0400
TZOFFSETTO:-0500
TZNAME:EST
DTSTART:20201101T060000
END:STANDARD
END:VTIMEZONE
BEGIN:VEVENT
DTSTART;TZID=America/Kentucky/Louisville:20200403T180000
DTEND;TZID=America/Kentucky/Louisville:20200403T200000
DTSTAMP:20260422T221820
CREATED:20191007T135554Z
LAST-MODIFIED:20200310T135630Z
UID:66047-1585936800-1585944000@bcplib.org
SUMMARY:CANCELED | First Friday Bunco Night
DESCRIPTION:Let the good times roll… \nEveryone’s a winner after hours at the library while you enjoy a fun\, classic game and great conversation. Grab a friend—or two!—and join us for a rollicking night of Bunco and community. Light refreshments (and bragging rights) will be provided. \nPsst… We won’t be playing with real money. But the prizes will be real! Winners will take home a gift card from a local business\, household items\, or seasonal gifts! \nFor ages 18 and up. Just drop in!\nSeating will be available on a first-come\, first-served basis. Questions? E-mail gayle@bcplib.org.
URL:https://bcplib.org/event/first-friday-bunco-night-2020-04-03/
LOCATION:Lebanon Junction Branch\, 11382 S. Preston Highway\, Lebanon Junction\, KY\, 40150\, United States
CATEGORIES:Adults
ORGANIZER;CN="Gayle":MAILTO:gayle@bcplib.org
GEO:37.8417678;-85.7287508
X-APPLE-STRUCTURED-LOCATION;VALUE=URI;X-ADDRESS=Lebanon Junction Branch 11382 S. Preston Highway Lebanon Junction KY 40150 United States;X-APPLE-RADIUS=500;X-TITLE=11382 S. Preston Highway:geo:-85.7287508,37.8417678
END:VEVENT
END:VCALENDAR