BEGIN:VCALENDAR
VERSION:2.0
PRODID:-//Bullitt County Public Library - ECPv5.16.4//NONSGML v1.0//EN
CALSCALE:GREGORIAN
METHOD:PUBLISH
X-WR-CALNAME:Bullitt County Public Library
X-ORIGINAL-URL:https://bcplib.org
X-WR-CALDESC:Events for Bullitt County Public Library
BEGIN:VTIMEZONE
TZID:America/Kentucky/Louisville
BEGIN:DAYLIGHT
TZOFFSETFROM:-0500
TZOFFSETTO:-0400
TZNAME:EDT
DTSTART:20210314T070000
END:DAYLIGHT
BEGIN:STANDARD
TZOFFSETFROM:-0400
TZOFFSETTO:-0500
TZNAME:EST
DTSTART:20211107T060000
END:STANDARD
END:VTIMEZONE
BEGIN:VEVENT
DTSTART;TZID=America/Kentucky/Louisville:20211006T140000
DTEND;TZID=America/Kentucky/Louisville:20211006T153000
DTSTAMP:20260423T110349
CREATED:20210921T163726Z
LAST-MODIFIED:20210927T140348Z
UID:97146-1633528800-1633534200@bcplib.org
SUMMARY:Fire Prevention for Kids
DESCRIPTION:Stop\, drop\, and roll… \nIn honor of National Fire Prevention Week\, join us for a fun\, family-friendly afternoon all about fire safety. Enjoy a special storytime with a real-life firefighter\, learn about fire hazards and what to do if a fire occurs\, and make your own firefighter hat! Plus\, children can explore a fire engine right here at the library! \nAbout Fire Prevention Week\nFrom www.nfpa.org: Fire Prevention Week is observed each year during the week of October 9th in commemoration of the Great Chicago Fire\, which began on October 8\, 1871\, and caused devastating damage. This horrific conflagration killed more than 250 people\, left 100\,000 homeless\, destroyed more than 17\,400 structures\, and burned more than 2\,000 acres of land. \nPlease note: Bullitt County Public Schools will be closed to Fall Break! \nFor children of all ages. Just drop in!\nSeating will be available on a first-come\, first-served basis. Questions? Call Ms. Jillian at 543-7675 ext. 2557 or e-mail jillian@bcplib.org.
URL:https://bcplib.org/event/fire-prevention-rm/
LOCATION:Ridgway Memorial Library\, 127 N. Walnut Street\, Shepherdsville\, KY\, 40165\, United States
CATEGORIES:Tweens,Kids
ORGANIZER;CN="Jillian":MAILTO:jillian@bcplib.org
GEO:38.001133520394;-85.706045160467
X-APPLE-STRUCTURED-LOCATION;VALUE=URI;X-ADDRESS=Ridgway Memorial Library 127 N. Walnut Street Shepherdsville KY 40165 United States;X-APPLE-RADIUS=500;X-TITLE=127 N. Walnut Street:geo:-85.706045160467,38.001133520394
END:VEVENT
END:VCALENDAR