BEGIN:VCALENDAR
VERSION:2.0
PRODID:-//Bullitt County Public Library - ECPv5.16.4//NONSGML v1.0//EN
CALSCALE:GREGORIAN
METHOD:PUBLISH
X-WR-CALNAME:Bullitt County Public Library
X-ORIGINAL-URL:https://bcplib.org
X-WR-CALDESC:Events for Bullitt County Public Library
BEGIN:VTIMEZONE
TZID:America/Kentucky/Louisville
BEGIN:DAYLIGHT
TZOFFSETFROM:-0500
TZOFFSETTO:-0400
TZNAME:EDT
DTSTART:20210314T070000
END:DAYLIGHT
BEGIN:STANDARD
TZOFFSETFROM:-0400
TZOFFSETTO:-0500
TZNAME:EST
DTSTART:20211107T060000
END:STANDARD
END:VTIMEZONE
BEGIN:VEVENT
DTSTART;TZID=America/Kentucky/Louisville:20211209T140000
DTEND;TZID=America/Kentucky/Louisville:20211209T150000
DTSTAMP:20260422T162900
CREATED:20211029T193737Z
LAST-MODIFIED:20211029T193852Z
UID:97907-1639058400-1639062000@bcplib.org
SUMMARY:Finger Paint Ornament
DESCRIPTION:A treasure for the holidays… \nJoin us to create a cherished keepsake ornament. Littles will enjoy finger-painting the inside of an ornament\, making a family treasure to hang on the tree each year. Plus\, add tiny Styrofoam balls inside the ornament to create a fun falling snow effect. \nFor ages 0–5. Just drop in!\nSpace and materials will be available on a first-come\, first-served basis. Questions? E-mail angel@bcplib.org.
URL:https://bcplib.org/event/finger-paint-ornament/
LOCATION:Mt. Washington Branch\, 214 N. Bardstown Road\, Mt. Washington\, KY\, 40047\, United States
CATEGORIES:Kids
ORGANIZER;CN="Angel":MAILTO:angel@bcplib.org
GEO:38.0492119;-85.5430434
X-APPLE-STRUCTURED-LOCATION;VALUE=URI;X-ADDRESS=Mt. Washington Branch 214 N. Bardstown Road Mt. Washington KY 40047 United States;X-APPLE-RADIUS=500;X-TITLE=214 N. Bardstown Road:geo:-85.5430434,38.0492119
END:VEVENT
END:VCALENDAR