BEGIN:VCALENDAR
VERSION:2.0
PRODID:-//Bullitt County Public Library - ECPv5.16.4//NONSGML v1.0//EN
CALSCALE:GREGORIAN
METHOD:PUBLISH
X-WR-CALNAME:Bullitt County Public Library
X-ORIGINAL-URL:https://bcplib.org
X-WR-CALDESC:Events for Bullitt County Public Library
BEGIN:VTIMEZONE
TZID:America/Kentucky/Louisville
BEGIN:DAYLIGHT
TZOFFSETFROM:-0500
TZOFFSETTO:-0400
TZNAME:EDT
DTSTART:20190310T070000
END:DAYLIGHT
BEGIN:STANDARD
TZOFFSETFROM:-0400
TZOFFSETTO:-0500
TZNAME:EST
DTSTART:20191103T060000
END:STANDARD
END:VTIMEZONE
BEGIN:VEVENT
DTSTART;TZID=America/Kentucky/Louisville:20190128T180000
DTEND;TZID=America/Kentucky/Louisville:20190128T190000
DTSTAMP:20260422T115521
CREATED:20171211T195930Z
LAST-MODIFIED:20181226T164949Z
UID:22669-1548698400-1548702000@bcplib.org
SUMMARY:Family Trivia Night
DESCRIPTION:Test your knowledge. Feed your brain (with pizza!). \nBring your game face to our Lebanon Junction branch for a night of family-friendly trivia! Bring the kids\, the grandparents\, your siblings\, or whoever you like and prepare to put your brains together to answer random trivia questions on a variety of topics. Family groups do not even have to be related! In fact\, the rules are super simple: 1) follow library guidelines; 2) don’t cheat (put those phones away\, folks!); and 3) have fun! Winners will receive a small prize plus bragging rights\, and drinks and pizza from Daddio’s will be provided for all participants. \nBack by popular demand\, our latest Family Trivia Night series will take place on the 4th Monday of each month from January–April 2019! \nFor all ages.\nRegistration is required for a limited number of guaranteed seats. Additional seating may be available on a first-come\, first-served basis. Questions or comments? Call Brandy F. at 543-7675 ext. 2202\, or e-mail bferriell@bcplib.org.
URL:https://bcplib.org/event/family-trivia-night/2019-01-28/
LOCATION:Lebanon Junction Branch\, 11382 S. Preston Highway\, Lebanon Junction\, KY\, 40150\, United States
CATEGORIES:Adults,Teens,Tweens,Kids,Family
GEO:37.8417678;-85.7287508
X-APPLE-STRUCTURED-LOCATION;VALUE=URI;X-ADDRESS=Lebanon Junction Branch 11382 S. Preston Highway Lebanon Junction KY 40150 United States;X-APPLE-RADIUS=500;X-TITLE=11382 S. Preston Highway:geo:-85.7287508,37.8417678
END:VEVENT
END:VCALENDAR