BEGIN:VCALENDAR
VERSION:2.0
PRODID:-//Bullitt County Public Library - ECPv5.16.4//NONSGML v1.0//EN
CALSCALE:GREGORIAN
METHOD:PUBLISH
X-WR-CALNAME:Bullitt County Public Library
X-ORIGINAL-URL:https://bcplib.org
X-WR-CALDESC:Events for Bullitt County Public Library
BEGIN:VTIMEZONE
TZID:America/Kentucky/Louisville
BEGIN:DAYLIGHT
TZOFFSETFROM:-0500
TZOFFSETTO:-0400
TZNAME:EDT
DTSTART:20180311T070000
END:DAYLIGHT
BEGIN:STANDARD
TZOFFSETFROM:-0400
TZOFFSETTO:-0500
TZNAME:EST
DTSTART:20181104T060000
END:STANDARD
END:VTIMEZONE
BEGIN:VEVENT
DTSTART;TZID=America/Kentucky/Louisville:20180226T180000
DTEND;TZID=America/Kentucky/Louisville:20180226T190000
DTSTAMP:20260423T113652
CREATED:20171211T195930Z
LAST-MODIFIED:20180220T204648Z
UID:22673-1519668000-1519671600@bcplib.org
SUMMARY:Family Trivia Night
DESCRIPTION:Test your knowledge. Feed your brain (with pizza!). \nBring your game face every 4th Monday to our Lebanon Junction Branch Library for a friendly round of family trivia! \nFor all ages. We’re sorry\, but guaranteed registration for our February trivia night is now closed.\nAdditional seats may be available on a first-come\, first served basis. Questions or comments? Call Brandy F. at 543-7675 ext. 2202\, or e-mail bferriell@bcplib.org. \n\n 
URL:https://bcplib.org/event/family-trivia-night-2018-02-26/
LOCATION:Lebanon Junction Branch\, 11382 S. Preston Highway\, Lebanon Junction\, KY\, 40150\, United States
CATEGORIES:Adults,Teens,Tweens,Kids,Family
GEO:37.8417678;-85.7287508
X-APPLE-STRUCTURED-LOCATION;VALUE=URI;X-ADDRESS=Lebanon Junction Branch 11382 S. Preston Highway Lebanon Junction KY 40150 United States;X-APPLE-RADIUS=500;X-TITLE=11382 S. Preston Highway:geo:-85.7287508,37.8417678
END:VEVENT
END:VCALENDAR