BEGIN:VCALENDAR
VERSION:2.0
PRODID:-//Bullitt County Public Library - ECPv5.16.4//NONSGML v1.0//EN
CALSCALE:GREGORIAN
METHOD:PUBLISH
X-WR-CALNAME:Bullitt County Public Library
X-ORIGINAL-URL:https://bcplib.org
X-WR-CALDESC:Events for Bullitt County Public Library
BEGIN:VTIMEZONE
TZID:America/Kentucky/Louisville
BEGIN:DAYLIGHT
TZOFFSETFROM:-0500
TZOFFSETTO:-0400
TZNAME:EDT
DTSTART:20220313T070000
END:DAYLIGHT
BEGIN:STANDARD
TZOFFSETFROM:-0400
TZOFFSETTO:-0500
TZNAME:EST
DTSTART:20221106T060000
END:STANDARD
END:VTIMEZONE
BEGIN:VEVENT
DTSTART;TZID=America/Kentucky/Louisville:20220208T103000
DTEND;TZID=America/Kentucky/Louisville:20220208T111500
DTSTAMP:20260422T032256
CREATED:20210820T140121Z
LAST-MODIFIED:20220405T132544Z
UID:96133-1644316200-1644318900@bcplib.org
SUMMARY:Family Storytime
DESCRIPTION:When I say to a parent\, “read to a child\,” I don’t want it to sound like medicine. I want it to sound like chocolate. —Mem Fox \nReading becomes a favorite treat as we explore early literacy through stories\, songs\, and a simple craft. This free program for the whole family is designed to provide kids a foundation for kindergarten and to offer a fun\, safe space for children of all ages to learn\, socialize\, and play. We strive to create fun and rich experiences that build a love of books\, libraries\, and learning that will stay with children for a lifetime. \nSpecial Family Storytimes \n\nOCTOBER 26th: Halloween Party\nDECEMBER 21st: Christmas Party\nFEBRUARY 8th: Valentine’s Day Party\nAPRIL 12th: Easter Party\nMAY 3rd: Graduation Party\n\n\nWeekly Family Storytimes are offered at our Mt. Washington (Tuesdays) and Hillview (Wednesdays) locations. \n\nFor children of all ages and their families. A parent or caregiver must remain with children at all times.\nThis event is open to children of all ages to better serve our local homeschool families or children with special needs outside the typical Storytime age range.\nYou might also be interested in Literacy for Littles at Nichols Branch Library or Storytime at our Ridgway Memorial and Lebanon Junction locations.\n\nFor children of all ages and their families. Just drop in!\nThis event is open to children of all ages to better serve our local homeschool families or children with special needs outside the typical Storytime age range. Seating will be available on a first-come\, first-served basis. Questions? Call Ms. Angel at 543-7675 ext. 2556 or e-mail angel@bcplib.org.
URL:https://bcplib.org/event/family-storytime-2022/2022-02-08/
LOCATION:Mt. Washington Branch\, 214 N. Bardstown Road\, Mt. Washington\, KY\, 40047\, United States
CATEGORIES:Kids,Family
ORGANIZER;CN="Angel":MAILTO:angel@bcplib.org
GEO:38.0492119;-85.5430434
X-APPLE-STRUCTURED-LOCATION;VALUE=URI;X-ADDRESS=Mt. Washington Branch 214 N. Bardstown Road Mt. Washington KY 40047 United States;X-APPLE-RADIUS=500;X-TITLE=214 N. Bardstown Road:geo:-85.5430434,38.0492119
END:VEVENT
END:VCALENDAR