BEGIN:VCALENDAR
VERSION:2.0
PRODID:-//Bullitt County Public Library - ECPv5.16.4//NONSGML v1.0//EN
CALSCALE:GREGORIAN
METHOD:PUBLISH
X-WR-CALNAME:Bullitt County Public Library
X-ORIGINAL-URL:https://bcplib.org
X-WR-CALDESC:Events for Bullitt County Public Library
BEGIN:VTIMEZONE
TZID:America/Kentucky/Louisville
BEGIN:DAYLIGHT
TZOFFSETFROM:-0500
TZOFFSETTO:-0400
TZNAME:EDT
DTSTART:20180311T070000
END:DAYLIGHT
BEGIN:STANDARD
TZOFFSETFROM:-0400
TZOFFSETTO:-0500
TZNAME:EST
DTSTART:20181104T060000
END:STANDARD
END:VTIMEZONE
BEGIN:VEVENT
DTSTART;TZID=America/Kentucky/Louisville:20180305T180000
DTEND;TZID=America/Kentucky/Louisville:20180305T194500
DTSTAMP:20260424T024300
CREATED:20180201T170212Z
LAST-MODIFIED:20180201T170212Z
UID:24728-1520272800-1520279100@bcplib.org
SUMMARY:Family Movie Night
DESCRIPTION:Rating: PG Runtime: 1 hr. 44 min.\nWatch great family movies for free at the library! \nThis month\, join us for My Little Pony: The Movie. When Equestria’s first Friendship Festival is crashed by monsters who kidnap their princesses\, the Mane 6 must flee to another kingdom to seek help from the mysterious “hippos.” \nMovies begin at 6:00 PM unless otherwise noted. Drinks and snacks are provided. \nFor all ages. Just drop in! Seating will be available on a first-come\, first-served basis.
URL:https://bcplib.org/event/family-movie-night-mar-hl/
LOCATION:Hillview Branch\, 155 Terry Boulevard\, Hillview\, KY\, 40229\, United States
CATEGORIES:Teens,Tweens,Kids,Family
ORGANIZER;CN="Jillian":MAILTO:jillian@bcplib.org
GEO:38.077247;-85.688966
X-APPLE-STRUCTURED-LOCATION;VALUE=URI;X-ADDRESS=Hillview Branch 155 Terry Boulevard Hillview KY 40229 United States;X-APPLE-RADIUS=500;X-TITLE=155 Terry Boulevard:geo:-85.688966,38.077247
END:VEVENT
END:VCALENDAR