BEGIN:VCALENDAR
VERSION:2.0
PRODID:-//Bullitt County Public Library - ECPv5.16.4//NONSGML v1.0//EN
CALSCALE:GREGORIAN
METHOD:PUBLISH
X-WR-CALNAME:Bullitt County Public Library
X-ORIGINAL-URL:https://bcplib.org
X-WR-CALDESC:Events for Bullitt County Public Library
BEGIN:VTIMEZONE
TZID:America/Kentucky/Louisville
BEGIN:DAYLIGHT
TZOFFSETFROM:-0500
TZOFFSETTO:-0400
TZNAME:EDT
DTSTART:20180311T070000
END:DAYLIGHT
BEGIN:STANDARD
TZOFFSETFROM:-0400
TZOFFSETTO:-0500
TZNAME:EST
DTSTART:20181104T060000
END:STANDARD
END:VTIMEZONE
BEGIN:VEVENT
DTSTART;TZID=America/Kentucky/Louisville:20180809T180000
DTEND;TZID=America/Kentucky/Louisville:20180809T193000
DTSTAMP:20260424T140841
CREATED:20180615T143130Z
LAST-MODIFIED:20180615T143130Z
UID:30624-1533837600-1533843000@bcplib.org
SUMMARY:Family Movie Night
DESCRIPTION:Rating: PGRuntime: 1 hr. 30 min.\nWatch great family movies for free at the library! \nThis month\, join us for Rock Dog. Bodi the Tibetan Mastiff is expected to be the next guard in charge of security for his small village\, but when a small radio falls from a plane\, he falls in love with rock music and leaves to pursue a bigger dream. \nMovies begin at 6:00 PM unless otherwise noted. Drinks and snacks are provided. \nFor all ages. Just drop in! \nSeating will be available on a first-come\, first-served basis.
URL:https://bcplib.org/event/family-movie-night-aug-lj/
LOCATION:Lebanon Junction Branch\, 11382 S. Preston Highway\, Lebanon Junction\, KY\, 40150\, United States
CATEGORIES:Teens,Tweens,Kids,Family
GEO:37.8417678;-85.7287508
X-APPLE-STRUCTURED-LOCATION;VALUE=URI;X-ADDRESS=Lebanon Junction Branch 11382 S. Preston Highway Lebanon Junction KY 40150 United States;X-APPLE-RADIUS=500;X-TITLE=11382 S. Preston Highway:geo:-85.7287508,37.8417678
END:VEVENT
END:VCALENDAR