BEGIN:VCALENDAR
VERSION:2.0
PRODID:-//Bullitt County Public Library - ECPv5.16.4//NONSGML v1.0//EN
CALSCALE:GREGORIAN
METHOD:PUBLISH
X-WR-CALNAME:Bullitt County Public Library
X-ORIGINAL-URL:https://bcplib.org
X-WR-CALDESC:Events for Bullitt County Public Library
BEGIN:VTIMEZONE
TZID:America/Kentucky/Louisville
BEGIN:DAYLIGHT
TZOFFSETFROM:-0500
TZOFFSETTO:-0400
TZNAME:EDT
DTSTART:20180311T070000
END:DAYLIGHT
BEGIN:STANDARD
TZOFFSETFROM:-0400
TZOFFSETTO:-0500
TZNAME:EST
DTSTART:20181104T060000
END:STANDARD
END:VTIMEZONE
BEGIN:VEVENT
DTSTART;TZID=America/Kentucky/Louisville:20180426T180000
DTEND;TZID=America/Kentucky/Louisville:20180426T195500
DTSTAMP:20260421T150341
CREATED:20180220T183535Z
LAST-MODIFIED:20180220T183535Z
UID:25280-1524765600-1524772500@bcplib.org
SUMMARY:Family Movie Night
DESCRIPTION:Rating: PG Runtime: 1 hr. 53 min.\nWatch great family movies for free at the library! \nThis month\, join us for Wonder. An extraordinary work of heart about a boy born with a facial deformity and his struggle to fit into a world that doesn’t understand him. \nMovies begin at 6:00 PM unless otherwise noted. Drinks and snacks are provided. \nFor all ages. Just drop in! \nSeating will be available on a first-come\, first-served basis.
URL:https://bcplib.org/event/family-movie-night-apr-rm/
LOCATION:Ridgway Memorial Library\, 127 N. Walnut Street\, Shepherdsville\, KY\, 40165\, United States
CATEGORIES:Teens,Tweens,Kids,Family
GEO:38.001133520394;-85.706045160467
X-APPLE-STRUCTURED-LOCATION;VALUE=URI;X-ADDRESS=Ridgway Memorial Library 127 N. Walnut Street Shepherdsville KY 40165 United States;X-APPLE-RADIUS=500;X-TITLE=127 N. Walnut Street:geo:-85.706045160467,38.001133520394
END:VEVENT
END:VCALENDAR