BEGIN:VCALENDAR
VERSION:2.0
PRODID:-//Bullitt County Public Library - ECPv5.16.4//NONSGML v1.0//EN
CALSCALE:GREGORIAN
METHOD:PUBLISH
X-WR-CALNAME:Bullitt County Public Library
X-ORIGINAL-URL:https://bcplib.org
X-WR-CALDESC:Events for Bullitt County Public Library
BEGIN:VTIMEZONE
TZID:America/Kentucky/Louisville
BEGIN:DAYLIGHT
TZOFFSETFROM:-0500
TZOFFSETTO:-0400
TZNAME:EDT
DTSTART:20210314T070000
END:DAYLIGHT
BEGIN:STANDARD
TZOFFSETFROM:-0400
TZOFFSETTO:-0500
TZNAME:EST
DTSTART:20211107T060000
END:STANDARD
END:VTIMEZONE
BEGIN:VEVENT
DTSTART;TZID=America/Kentucky/Louisville:20210208T210000
DTEND;TZID=America/Kentucky/Louisville:20210208T210400
DTSTAMP:20260423T131745
CREATED:20210320T164812Z
LAST-MODIFIED:20210320T182502Z
UID:92441-1612818000-1612818240@bcplib.org
SUMMARY:Family Cookbook
DESCRIPTION:There’s nothing better than good food and family… \nCreate your very own personalized cookbook filled with treasured memories! Join Gayle on Instagram every Monday evening for stories about her own family’s cooking adventures and to spark your creativity. Plus\, get your Family Cookbook kits\, including weekly project inspirations and sample recipe pages\, at your preferred location each month. ❤️🥄 \nFor ages 18 and up. \nEnjoy from the comfort of home via BCPL’s Instagram (bcplinsta ). Can’t make it at 9:00 PM? That’s fine\, too. Videos will remain on Instagram and YouTube to view\, share\, and enjoy until further notice. Questions? E-mail gayle@bcplib.org.
URL:https://bcplib.org/event/family-cookbook/2021-02-08/
LOCATION:BCPL on Instagram
CATEGORIES:Adults,Family
ORGANIZER;CN="Gayle":MAILTO:gayle@bcplib.org
END:VEVENT
END:VCALENDAR