BEGIN:VCALENDAR
VERSION:2.0
PRODID:-//Bullitt County Public Library - ECPv5.16.4//NONSGML v1.0//EN
CALSCALE:GREGORIAN
METHOD:PUBLISH
X-WR-CALNAME:Bullitt County Public Library
X-ORIGINAL-URL:https://bcplib.org
X-WR-CALDESC:Events for Bullitt County Public Library
BEGIN:VTIMEZONE
TZID:America/Kentucky/Louisville
BEGIN:DAYLIGHT
TZOFFSETFROM:-0500
TZOFFSETTO:-0400
TZNAME:EDT
DTSTART:20220313T070000
END:DAYLIGHT
BEGIN:STANDARD
TZOFFSETFROM:-0400
TZOFFSETTO:-0500
TZNAME:EST
DTSTART:20221106T060000
END:STANDARD
END:VTIMEZONE
BEGIN:VEVENT
DTSTART;TZID=America/Kentucky/Louisville:20220613T180000
DTEND;TZID=America/Kentucky/Louisville:20220613T190000
DTSTAMP:20260421T190148
CREATED:20220114T180103Z
LAST-MODIFIED:20220901T182235Z
UID:101615-1655143200-1655146800@bcplib.org
SUMMARY:Family Bingo
DESCRIPTION:B-I-N-G-O! \nBring the kids\, the grandparents\, your siblings\, or whoever you like for a night of lively competition\, prizes\, and PIZZA. At this program\, luck’s always on your side because (1) it’s a fun social night for all and (2) everybody wins! Even if you don’t get a bingo\, you can still pick a prize at the end of the program. \nPlus—BONUS!!!—bingo is excellent reinforcement for kiddos learning their letters and numbers or practicing social skills like listening\, sportsmanship\, or following directions. \nFor all ages. Just drop in!\nSeating will be available on a first-come\, first-served basis. Questions? Call Ms. Jillian at 543-7675 ext. 2557 or e-mail jillian@bcplib.org. \n\nFAMILY BINGO SCHEDULE \n\n1st Saturday of the month\, 2:00–3:00 PM\n@Nichols\n2nd Monday of the month\, 6:00–7:00 PM\n@Lebanon Junction\n2nd Tuesday of the month\, 6:00–7:00 PM\n@Central
URL:https://bcplib.org/event/family-bingo-lj-2/2022-06-13/
LOCATION:Lebanon Junction Branch\, 11382 S. Preston Highway\, Lebanon Junction\, KY\, 40150\, United States
CATEGORIES:Adults,Teens,Tweens,Kids,Family
ORGANIZER;CN="Jillian":MAILTO:jillian@bcplib.org
GEO:37.8417678;-85.7287508
X-APPLE-STRUCTURED-LOCATION;VALUE=URI;X-ADDRESS=Lebanon Junction Branch 11382 S. Preston Highway Lebanon Junction KY 40150 United States;X-APPLE-RADIUS=500;X-TITLE=11382 S. Preston Highway:geo:-85.7287508,37.8417678
END:VEVENT
END:VCALENDAR