BEGIN:VCALENDAR
VERSION:2.0
PRODID:-//Bullitt County Public Library - ECPv5.16.4//NONSGML v1.0//EN
CALSCALE:GREGORIAN
METHOD:PUBLISH
X-WR-CALNAME:Bullitt County Public Library
X-ORIGINAL-URL:https://bcplib.org
X-WR-CALDESC:Events for Bullitt County Public Library
BEGIN:VTIMEZONE
TZID:America/Kentucky/Louisville
BEGIN:DAYLIGHT
TZOFFSETFROM:-0500
TZOFFSETTO:-0400
TZNAME:EDT
DTSTART:20220313T070000
END:DAYLIGHT
BEGIN:STANDARD
TZOFFSETFROM:-0400
TZOFFSETTO:-0500
TZNAME:EST
DTSTART:20221106T060000
END:STANDARD
END:VTIMEZONE
BEGIN:VEVENT
DTSTART;TZID=America/Kentucky/Louisville:20220423T100000
DTEND;TZID=America/Kentucky/Louisville:20220423T140000
DTSTAMP:20260421T234415
CREATED:20220316T164347Z
LAST-MODIFIED:20220316T164815Z
UID:101162-1650708000-1650722400@bcplib.org
SUMMARY:Seed & Plant Exchange
DESCRIPTION:If you have a garden and a library\, you have everything you need. –Marcus Tullius Cicero \nBring your seeds\, plants\, and more to trade and share! Your items should be prepared and ready to share. Plus\, exchange gardening advice and tips. \nExchange items might include: \n\nPackaged seeds (remember to label as needed!)\nPlant bulbs\, cuttings\, or starts\nPotted plants or houseplants\nGardening tools and supplies (new or gently used)\nMore!\n\nPsst…Be sure to pick up a Seed & Plant Exchange seed packet at any BCPL location. These foldable templates are perfect for organizing the seeds you plan to share and reminding you when to be there. \nOpen to gardeners of ALL ages. Just drop in! \n\n\nThis special community event is presented in partnership with Bernheim Arboretum and Research Forest. A variety of seeds harvested from the 2021 Edible Garden will be available at the exchange! \n\nRegistration isn’t required\, but if you’re bringing something awesome or a large quantity of seeds or cuttings\, please consider letting us know below! \nQuestions? Call Gayle at 543-7675 ext. 2551 or e-mail gayle@bcplib.org.
URL:https://bcplib.org/event/exchange2022-mw/
LOCATION:Mt. Washington Branch\, 214 N. Bardstown Road\, Mt. Washington\, KY\, 40047\, United States
CATEGORIES:Adults,Teens,Family
ORGANIZER;CN="Gayle":MAILTO:gayle@bcplib.org
GEO:38.0492119;-85.5430434
X-APPLE-STRUCTURED-LOCATION;VALUE=URI;X-ADDRESS=Mt. Washington Branch 214 N. Bardstown Road Mt. Washington KY 40047 United States;X-APPLE-RADIUS=500;X-TITLE=214 N. Bardstown Road:geo:-85.5430434,38.0492119
END:VEVENT
END:VCALENDAR