BEGIN:VCALENDAR
VERSION:2.0
PRODID:-//Bullitt County Public Library - ECPv5.16.4//NONSGML v1.0//EN
CALSCALE:GREGORIAN
METHOD:PUBLISH
X-WR-CALNAME:Bullitt County Public Library
X-ORIGINAL-URL:https://bcplib.org
X-WR-CALDESC:Events for Bullitt County Public Library
BEGIN:VTIMEZONE
TZID:America/Kentucky/Louisville
BEGIN:DAYLIGHT
TZOFFSETFROM:-0500
TZOFFSETTO:-0400
TZNAME:EDT
DTSTART:20220313T070000
END:DAYLIGHT
BEGIN:STANDARD
TZOFFSETFROM:-0400
TZOFFSETTO:-0500
TZNAME:EST
DTSTART:20221106T060000
END:STANDARD
END:VTIMEZONE
BEGIN:VEVENT
DTSTART;TZID=America/Kentucky/Louisville:20220418T090000
DTEND;TZID=America/Kentucky/Louisville:20220418T200000
DTSTAMP:20260421T234841
CREATED:20220329T172744Z
LAST-MODIFIED:20220329T182243Z
UID:101281-1650272400-1650312000@bcplib.org
SUMMARY:Celebrate Earth Day
DESCRIPTION:“The Earth is what we all have in common.”  –Wendell Berry \nDrop in to celebrate the earth all week long! Explore environmental issues through daily gardening activities\, upcycled crafts\, and more. Plus enjoy sunflower seed giveaways while supplies last and meet our special guests on Friday. \nSpecial Earth Day events on Friday: \n\n10:00 AM–4:00 PM | Soil-testing demonstration with Bullitt County Soil Conservation\n11:00 AM–12:00 PM | Presentation on sustainable gardening with with Anne Milligan and Stephen Brown\, authors of  Let The Earth Breathe: Gardening with Native Plants \n\nFor all ages. Just drop in!\nSpace\, supplies\, and giveaways will be available on a first come\, first-served basis. Questions? Call Kat at 502-543-7675 ext. 4 or e-mail kathryn@bcplib.org.
URL:https://bcplib.org/event/earth-day-2022/2022-04-18/
LOCATION:Ridgway Memorial Library\, 127 N. Walnut Street\, Shepherdsville\, KY\, 40165\, United States
CATEGORIES:Adults,Teens,Tweens,Kids,Family
ORGANIZER;CN="Kathryn":MAILTO:kathryn@bcplib.org
GEO:38.001133520394;-85.706045160467
X-APPLE-STRUCTURED-LOCATION;VALUE=URI;X-ADDRESS=Ridgway Memorial Library 127 N. Walnut Street Shepherdsville KY 40165 United States;X-APPLE-RADIUS=500;X-TITLE=127 N. Walnut Street:geo:-85.706045160467,38.001133520394
END:VEVENT
END:VCALENDAR