BEGIN:VCALENDAR
VERSION:2.0
PRODID:-//Bullitt County Public Library - ECPv5.16.4//NONSGML v1.0//EN
CALSCALE:GREGORIAN
METHOD:PUBLISH
X-WR-CALNAME:Bullitt County Public Library
X-ORIGINAL-URL:https://bcplib.org
X-WR-CALDESC:Events for Bullitt County Public Library
BEGIN:VTIMEZONE
TZID:America/Kentucky/Louisville
BEGIN:DAYLIGHT
TZOFFSETFROM:-0500
TZOFFSETTO:-0400
TZNAME:EDT
DTSTART:20180311T070000
END:DAYLIGHT
BEGIN:STANDARD
TZOFFSETFROM:-0400
TZOFFSETTO:-0500
TZNAME:EST
DTSTART:20181104T060000
END:STANDARD
END:VTIMEZONE
BEGIN:VEVENT
DTSTART;TZID=America/Kentucky/Louisville:20181106T160000
DTEND;TZID=America/Kentucky/Louisville:20181106T190000
DTSTAMP:20260423T103556
CREATED:20180424T165712Z
LAST-MODIFIED:20181022T203554Z
UID:29115-1541520000-1541530800@bcplib.org
SUMMARY:Digital Tech Lab: Customized Ringtones & Notifications Sounds
DESCRIPTION:Hang out and create at BCPL! \nOn the 1st Tuesday and 3rd Thursday of each month\, come explore cool tech tools and techniques you can use to pursue your digital passions. A new topic—and sometimes an awesome guest speaker!—will be featured each month. We’ll also have drinks and snacks if you just want to chill and hang with your friends. \nFor middle & high school ages.\nJust drop in! Seating will be available on a first-come\, first-served basis. Questions? E-mail patrick@bcplib.org. \n\nUpcoming topics include:\nNOVEMBER: Customized Ringtones & Notifications Sounds\nAre you tired of having the same boring ringtone and generic notification alerts as everyone else? Would you love to have dedicated ringtones for your friends and family members so you’ll always know who’s calling? Whatever you have in mind—whether you want to sample a hilarious catchphrase from your favorite TV show\, use a creepy noise from your favorite horror flick\, create a snippet from your favorite song\, we’ll show you how to make it happen! Plus\, learn how to import FREE special effect libraries from the Web to your Android or Apple device.
URL:https://bcplib.org/event/dtl-mw2/2018-11-06/
LOCATION:Mt. Washington Branch\, 214 N. Bardstown Road\, Mt. Washington\, KY\, 40047\, United States
CATEGORIES:Teens,Tweens
ORGANIZER;CN="Patrick":MAILTO:patrick@bcplib.org
GEO:38.0492119;-85.5430434
X-APPLE-STRUCTURED-LOCATION;VALUE=URI;X-ADDRESS=Mt. Washington Branch 214 N. Bardstown Road Mt. Washington KY 40047 United States;X-APPLE-RADIUS=500;X-TITLE=214 N. Bardstown Road:geo:-85.5430434,38.0492119
END:VEVENT
END:VCALENDAR