BEGIN:VCALENDAR
VERSION:2.0
PRODID:-//Bullitt County Public Library - ECPv5.16.4//NONSGML v1.0//EN
CALSCALE:GREGORIAN
METHOD:PUBLISH
X-WR-CALNAME:Bullitt County Public Library
X-ORIGINAL-URL:https://bcplib.org
X-WR-CALDESC:Events for Bullitt County Public Library
BEGIN:VTIMEZONE
TZID:America/Kentucky/Louisville
BEGIN:DAYLIGHT
TZOFFSETFROM:-0500
TZOFFSETTO:-0400
TZNAME:EDT
DTSTART:20180311T070000
END:DAYLIGHT
BEGIN:STANDARD
TZOFFSETFROM:-0400
TZOFFSETTO:-0500
TZNAME:EST
DTSTART:20181104T060000
END:STANDARD
END:VTIMEZONE
BEGIN:VEVENT
DTSTART;TZID=America/Kentucky/Louisville:20181117T130000
DTEND;TZID=America/Kentucky/Louisville:20181117T150000
DTSTAMP:20260422T043031
CREATED:20181022T183430Z
LAST-MODIFIED:20181030T205601Z
UID:39403-1542459600-1542466800@bcplib.org
SUMMARY:Community Drum Circle
DESCRIPTION:Kuvebo! are drumming their way to Hillview Branch Library! \nCome enjoy–and participate in–West African music\, singing\, and dancing! Kuvebo! will bring West Africa to you with this immersive experience. Along the way\, the artists demonstrate traditional drumming styles\, help you learn and participate in playing drums and other support percussion instruments\, and explain the cultural background behind the performance. Whether you are interested in learning more about West Africa or simply want to play the djembe drums\, join us for an amazing musical experience. \nPerformer backgrounds:\nVeteran dancer Hamidou Koivogui’s home country of Guinea is the destination for participants\, who learn to sing\, dance\, and drum a popular celebration rhythm called KuKu! Now living in Louisville\, Kentucky\, Hamidou brings his music and dance traditions to our communities\, with experienced artist-educator collaborators and dedicated students. Hamidou Koivogui and Gregory Acker co-teach West African drum and dance at workshops for students and offer professional development and team-building to many professional groups. Their work is included as part of the Bearing Witness Holocaust Education Program\, by the Kentucky Center’s Arts in Education Program. They are also a part of teacher and administrative professional development sessions. Both artists are affiliated with VSA Kentucky (arts for students with disabilities and their peers)\, and Gregory is also rostered with the Kentucky Arts Council. Kuvebo! performs for festivals\, concerts\, and in many different public parks.\nFor more information about the artists please visit:\nwww.facebook.com/soundcommunitylouisville or www.soundcommlou.org \n 
URL:https://bcplib.org/event/drum-circle/
LOCATION:Hillview Branch\, 155 Terry Boulevard\, Hillview\, KY\, 40229\, United States
CATEGORIES:Adults,Teens,Tweens,Kids,Family
ORGANIZER;CN="Mike":MAILTO:mike@bcplib.org
GEO:38.077247;-85.688966
X-APPLE-STRUCTURED-LOCATION;VALUE=URI;X-ADDRESS=Hillview Branch 155 Terry Boulevard Hillview KY 40229 United States;X-APPLE-RADIUS=500;X-TITLE=155 Terry Boulevard:geo:-85.688966,38.077247
END:VEVENT
END:VCALENDAR