BEGIN:VCALENDAR
VERSION:2.0
PRODID:-//Bullitt County Public Library - ECPv5.16.4//NONSGML v1.0//EN
CALSCALE:GREGORIAN
METHOD:PUBLISH
X-WR-CALNAME:Bullitt County Public Library
X-ORIGINAL-URL:https://bcplib.org
X-WR-CALDESC:Events for Bullitt County Public Library
BEGIN:VTIMEZONE
TZID:America/Kentucky/Louisville
BEGIN:DAYLIGHT
TZOFFSETFROM:-0500
TZOFFSETTO:-0400
TZNAME:EDT
DTSTART:20210314T070000
END:DAYLIGHT
BEGIN:STANDARD
TZOFFSETFROM:-0400
TZOFFSETTO:-0500
TZNAME:EST
DTSTART:20211107T060000
END:STANDARD
END:VTIMEZONE
BEGIN:VEVENT
DTSTART;TZID=America/Kentucky/Louisville:20210725T130000
DTEND;TZID=America/Kentucky/Louisville:20210725T150000
DTSTAMP:20260423T073528
CREATED:20210712T182808Z
LAST-MODIFIED:20210712T182808Z
UID:94313-1627218000-1627225200@bcplib.org
SUMMARY:Dog's Colorful Day StoryWalk®: Launch Event
DESCRIPTION:A StoryWalk® is for the kid in all of us… \n\nEnjoy a multi-sensory experience that combines the joy of reading with all the benefits of being outdoors and observing nature! Featuring the beloved children’s story Dog’s Colorful Day by Emma Dodd\, this traveling StoryWalk® will make a limited-time-only appearance at our Hillview and Mt. Washington locations. \n\nJoin us Sunday from 1:00–3:00 PM for a special launch event and giveaways!\nStoryWalks® will remain available at each location for one week after the launch event. Kids and families will enjoy a fun\, interactive story about a lovable dog as they practice counting and learn about colors.\n\nSCHEDULE \n@Hillview \n\nLaunch & Giveaways: Sunday\, July 18th @1:00–3:00 PM\nVisit: Sunday\, July 18th @1:00 PM through Saturday\, July 24th @4:30 PM\n\n@Mt. Washington \n\nLaunch & Giveaways: Sunday\, July 25th @1:00–3:00 PM\nVisit: Sunday\, July 25th @1:00 PM through Saturday\, July 31st @4:30 PM
URL:https://bcplib.org/event/dogs-colorful-day-storywalk-mw/
LOCATION:Mt. Washington Branch\, 214 N. Bardstown Road\, Mt. Washington\, KY\, 40047\, United States
ORGANIZER;CN="Angel":MAILTO:angel@bcplib.org
GEO:38.0492119;-85.5430434
X-APPLE-STRUCTURED-LOCATION;VALUE=URI;X-ADDRESS=Mt. Washington Branch 214 N. Bardstown Road Mt. Washington KY 40047 United States;X-APPLE-RADIUS=500;X-TITLE=214 N. Bardstown Road:geo:-85.5430434,38.0492119
END:VEVENT
END:VCALENDAR