BEGIN:VCALENDAR
VERSION:2.0
PRODID:-//Bullitt County Public Library - ECPv5.16.4//NONSGML v1.0//EN
CALSCALE:GREGORIAN
METHOD:PUBLISH
X-WR-CALNAME:Bullitt County Public Library
X-ORIGINAL-URL:https://bcplib.org
X-WR-CALDESC:Events for Bullitt County Public Library
BEGIN:VTIMEZONE
TZID:America/Kentucky/Louisville
BEGIN:DAYLIGHT
TZOFFSETFROM:-0500
TZOFFSETTO:-0400
TZNAME:EDT
DTSTART:20220313T070000
END:DAYLIGHT
BEGIN:STANDARD
TZOFFSETFROM:-0400
TZOFFSETTO:-0500
TZNAME:EST
DTSTART:20221106T060000
END:STANDARD
END:VTIMEZONE
BEGIN:VEVENT
DTSTART;TZID=America/Kentucky/Louisville:20220217T180000
DTEND;TZID=America/Kentucky/Louisville:20220217T190000
DTSTAMP:20260421T231217
CREATED:20220118T204628Z
LAST-MODIFIED:20220118T204628Z
UID:99661-1645120800-1645124400@bcplib.org
SUMMARY:DIY Window Clings
DESCRIPTION:A window with a view…\n \nBrighten even the gloomiest winter day with custom window clings! Design a charming winter scene\, colorful snowflakes\, or whatever you like to give yourself something to smile about every time you peek out your window. \nFor children of all ages. Just drop in!\nSeating and materials will be available on a first-come\, first-served basis. Questions? Call Ms. Brandy at 543-7675 ext. 2555 or e-mail brandy@bcplib.org.
URL:https://bcplib.org/event/diy-window-clings/
LOCATION:Hillview Branch\, 155 Terry Boulevard\, Hillview\, KY\, 40229\, United States
CATEGORIES:Tweens,Kids
GEO:38.077247;-85.688966
X-APPLE-STRUCTURED-LOCATION;VALUE=URI;X-ADDRESS=Hillview Branch 155 Terry Boulevard Hillview KY 40229 United States;X-APPLE-RADIUS=500;X-TITLE=155 Terry Boulevard:geo:-85.688966,38.077247
END:VEVENT
END:VCALENDAR