BEGIN:VCALENDAR
VERSION:2.0
PRODID:-//Bullitt County Public Library - ECPv5.16.4//NONSGML v1.0//EN
CALSCALE:GREGORIAN
METHOD:PUBLISH
X-WR-CALNAME:Bullitt County Public Library
X-ORIGINAL-URL:https://bcplib.org
X-WR-CALDESC:Events for Bullitt County Public Library
BEGIN:VTIMEZONE
TZID:America/Kentucky/Louisville
BEGIN:DAYLIGHT
TZOFFSETFROM:-0500
TZOFFSETTO:-0400
TZNAME:EDT
DTSTART:20220313T070000
END:DAYLIGHT
BEGIN:STANDARD
TZOFFSETFROM:-0400
TZOFFSETTO:-0500
TZNAME:EST
DTSTART:20221106T060000
END:STANDARD
END:VTIMEZONE
BEGIN:VEVENT
DTSTART;TZID=America/Kentucky/Louisville:20220718T180000
DTEND;TZID=America/Kentucky/Louisville:20220718T190000
DTSTAMP:20260421T173743
CREATED:20220613T202338Z
LAST-MODIFIED:20220613T202338Z
UID:102812-1658167200-1658170800@bcplib.org
SUMMARY:DIY Under-the-Sea Lanterns
DESCRIPTION:Darling it’s better down where it’s wetter…\n \nCreate your own underwater fantasy world! Join us to make an adorable\, under-the-sea light-up lantern to add a special touch of underwater magic to your room or next outdoor party. Using crepe paper\, ribbon\, felt\, googly eyes\, stickers\, ribbon\, and more you can craft a fun\, out-of-this-world paper lantern in the style of a fish\, jellyfish\, or octopus. We’ll provide the basic instructions\, but you can customize your creation however you like! \nPsst… Grown-ups\, be prepared to supervise and assist as needed! We’ll be using a hot-glue gun for some steps.  \nFor children of all ages. Just drop in!\nSeating will be available on a first-come\, first-served basis. Questions? Call Ms. Jillian at 543-7675 ext. 2557 or e-mail jillian@bcplib.org.
URL:https://bcplib.org/event/diy-sea-lanterns-lj/
LOCATION:Lebanon Junction Branch\, 11382 S. Preston Highway\, Lebanon Junction\, KY\, 40150\, United States
CATEGORIES:Tweens,Kids
ORGANIZER;CN="Jillian":MAILTO:jillian@bcplib.org
GEO:37.8417678;-85.7287508
X-APPLE-STRUCTURED-LOCATION;VALUE=URI;X-ADDRESS=Lebanon Junction Branch 11382 S. Preston Highway Lebanon Junction KY 40150 United States;X-APPLE-RADIUS=500;X-TITLE=11382 S. Preston Highway:geo:-85.7287508,37.8417678
END:VEVENT
END:VCALENDAR