BEGIN:VCALENDAR
VERSION:2.0
PRODID:-//Bullitt County Public Library - ECPv5.16.4//NONSGML v1.0//EN
CALSCALE:GREGORIAN
METHOD:PUBLISH
X-WR-CALNAME:Bullitt County Public Library
X-ORIGINAL-URL:https://bcplib.org
X-WR-CALDESC:Events for Bullitt County Public Library
BEGIN:VTIMEZONE
TZID:America/Kentucky/Louisville
BEGIN:DAYLIGHT
TZOFFSETFROM:-0500
TZOFFSETTO:-0400
TZNAME:EDT
DTSTART:20180311T070000
END:DAYLIGHT
BEGIN:STANDARD
TZOFFSETFROM:-0400
TZOFFSETTO:-0500
TZNAME:EST
DTSTART:20181104T060000
END:STANDARD
END:VTIMEZONE
BEGIN:VEVENT
DTSTART;TZID=America/Kentucky/Louisville:20180409T180000
DTEND;TZID=America/Kentucky/Louisville:20180409T190000
DTSTAMP:20260422T161623
CREATED:20180220T183146Z
LAST-MODIFIED:20180220T183146Z
UID:25286-1523296800-1523300400@bcplib.org
SUMMARY:DIY Scratch Art
DESCRIPTION:Scratch art doesn’t have to be an expensive hobby! \nJoin us for an easy lesson on how to create your own layered oil pastel background that you can use to make beautiful scratch art. Be sure to wear old clothes—this could get messy! \nAges 5–13. Registration is required for a select number of reserved seats.\nAdditional seating may be available on a first-come\, first-served basis.\nQuestions? E-mail brandy@bcplib.org.
URL:https://bcplib.org/event/diy-scratch-art-rm/
LOCATION:Ridgway Memorial Library\, 127 N. Walnut Street\, Shepherdsville\, KY\, 40165\, United States
CATEGORIES:Tweens,Kids
GEO:38.001133520394;-85.706045160467
X-APPLE-STRUCTURED-LOCATION;VALUE=URI;X-ADDRESS=Ridgway Memorial Library 127 N. Walnut Street Shepherdsville KY 40165 United States;X-APPLE-RADIUS=500;X-TITLE=127 N. Walnut Street:geo:-85.706045160467,38.001133520394
END:VEVENT
END:VCALENDAR