BEGIN:VCALENDAR
VERSION:2.0
PRODID:-//Bullitt County Public Library - ECPv5.16.4//NONSGML v1.0//EN
CALSCALE:GREGORIAN
METHOD:PUBLISH
X-WR-CALNAME:Bullitt County Public Library
X-ORIGINAL-URL:https://bcplib.org
X-WR-CALDESC:Events for Bullitt County Public Library
BEGIN:VTIMEZONE
TZID:America/Kentucky/Louisville
BEGIN:DAYLIGHT
TZOFFSETFROM:-0500
TZOFFSETTO:-0400
TZNAME:EDT
DTSTART:20210314T070000
END:DAYLIGHT
BEGIN:STANDARD
TZOFFSETFROM:-0400
TZOFFSETTO:-0500
TZNAME:EST
DTSTART:20211107T060000
END:STANDARD
END:VTIMEZONE
BEGIN:VEVENT
DTSTART;TZID=America/Kentucky/Louisville:20211202T180000
DTEND;TZID=America/Kentucky/Louisville:20211202T190000
DTSTAMP:20260422T144110
CREATED:20211029T195650Z
LAST-MODIFIED:20211029T195650Z
UID:97755-1638468000-1638471600@bcplib.org
SUMMARY:DIY Santa Cookie Plate
DESCRIPTION:Christmas is coming—and we all know how much Santa loves his cookies…\nJoin us for an evening of imagination and creativity while you make your very own plate for Santa’s cookies. This will be a keepsake you can use to offer Santa his special treat year after year. \nPsst… We will be working with paint pens to create your masterpiece\, so remember to wear old clothes.\n \nFor all ages. Just drop in!\nSeating will be available on the day of the event on a first-come\, first-served basis. Questions? Call Angel at 543-7675 ext. 2556 or e-mail angel@bcplib.org.
URL:https://bcplib.org/event/diy-santa-cookie-plate-2/
LOCATION:Mt. Washington Branch\, 214 N. Bardstown Road\, Mt. Washington\, KY\, 40047\, United States
CATEGORIES:Adults,Teens,Tweens,Kids,Family
ORGANIZER;CN="Angel":MAILTO:angel@bcplib.org
GEO:38.0492119;-85.5430434
X-APPLE-STRUCTURED-LOCATION;VALUE=URI;X-ADDRESS=Mt. Washington Branch 214 N. Bardstown Road Mt. Washington KY 40047 United States;X-APPLE-RADIUS=500;X-TITLE=214 N. Bardstown Road:geo:-85.5430434,38.0492119
END:VEVENT
END:VCALENDAR