BEGIN:VCALENDAR
VERSION:2.0
PRODID:-//Bullitt County Public Library - ECPv5.16.4//NONSGML v1.0//EN
CALSCALE:GREGORIAN
METHOD:PUBLISH
X-WR-CALNAME:Bullitt County Public Library
X-ORIGINAL-URL:https://bcplib.org
X-WR-CALDESC:Events for Bullitt County Public Library
BEGIN:VTIMEZONE
TZID:America/Kentucky/Louisville
BEGIN:DAYLIGHT
TZOFFSETFROM:-0500
TZOFFSETTO:-0400
TZNAME:EDT
DTSTART:20210314T070000
END:DAYLIGHT
BEGIN:STANDARD
TZOFFSETFROM:-0400
TZOFFSETTO:-0500
TZNAME:EST
DTSTART:20211107T060000
END:STANDARD
END:VTIMEZONE
BEGIN:VEVENT
DTSTART;TZID=America/Kentucky/Louisville:20211111T160000
DTEND;TZID=America/Kentucky/Louisville:20211111T180000
DTSTAMP:20260422T184821
CREATED:20211006T193256Z
LAST-MODIFIED:20211028T194947Z
UID:97578-1636646400-1636653600@bcplib.org
SUMMARY:DIY Holiday Giving: Mixed with Love
DESCRIPTION:Create a stockpile of homemade gifts for the holidays!  \nJoin us at the library on Thursdays to create something truly gift-worthy. This week\, paint wooden utensils to create a colorful\, one-of-a-kind kitchen set. \nPlus\, pick up our Spice It Up kit to add a little flavor to the holiday season and enter to win our weekly DIY Holiday Giving participation prize. \nFor all ages. Just drop in!\nSeating and supplies will be available on a first-come\, first-served basis. Questions? E-mail Kirsten at nilassistant@bcplib.org. \n\nThursday Craft Gifts\nNovember 4th | Breather Basket\nCreate a thoughtful Breather Basket filled with self-care and wellness supplies designed for an ultimate relaxation experience. \nNovember 11th | Mixed with Love\nPaint wooden utensils to create a colorful\, one-of-a-kind kitchen set. \nNovember 18th | Sew You\nSew a pretty\, pocket-sized hand warmer to create a comforting winter gift. \n🦃 THANKSGIVING HIATUS 🦃 \nDecember 2nd | DIY Sentiment\nPaint and embellish a charming door hanger or sentiment sign to add a custom touch to any home.\n \nDecember 9th | Amazing Adornment\nDesign a custom bracelet or necklace for a lucky recipient—or make a personalized gift for yourself.\n \nDecember 16th | DIY Planter\nBuild a charming rustic-style planter using wooden dowels and other materials. Paint it the color of your choice or add a special design!\n \nMake-and-Take Culinary Gifts\nPick up a new DIY Holiday Giving take-home kit every week while supplies last. Then\, prepare as directed to cook up a thoughtful gift for your foodie friends or a delicious treat for yourself. \nNovember 1st–6th | Scrumptious Jumble Jar\nCreate and decorate a ready-to-cook soup mix in a custom-designed jar.\n \nNovember 8th–13th | Spice It Up\n‘Tis the seasoning of the season! Blend and package a custom spice rub or finishing salt.\n \nNovember 15th–20th | Fireside Coffee\nMix up a custom coffee blend in a gift-ready package you design! \n🦃 THANKSGIVING HIATUS 🦃 \nNovember 29th–December 4th | Muffin’ but Yum\nPut a personal spin on a tasty muffin mix then pretty it up in a custom jar. \nDecember 6th–11th | Snowman Soup\nFirst\, stir up a delicious hot-chocolate mix with fluffy white marshmallows. Then\, package for sharing. \nDecember 13th–18th | Sweet Sleighs\nCreate an edible winter sleigh from individual candies.
URL:https://bcplib.org/event/diy-holiday-mixed-with-love/
LOCATION:Nichols Branch\, 10729 Highway 44 West\, West Point\, KY\, 40177\, United States
CATEGORIES:Adults,Teens,Tweens,Kids
GEO:38.0142396;-85.8852196
X-APPLE-STRUCTURED-LOCATION;VALUE=URI;X-ADDRESS=Nichols Branch 10729 Highway 44 West West Point KY 40177 United States;X-APPLE-RADIUS=500;X-TITLE=10729 Highway 44 West:geo:-85.8852196,38.0142396
END:VEVENT
END:VCALENDAR