BEGIN:VCALENDAR
VERSION:2.0
PRODID:-//Bullitt County Public Library - ECPv5.16.4//NONSGML v1.0//EN
CALSCALE:GREGORIAN
METHOD:PUBLISH
X-WR-CALNAME:Bullitt County Public Library
X-ORIGINAL-URL:https://bcplib.org
X-WR-CALDESC:Events for Bullitt County Public Library
BEGIN:VTIMEZONE
TZID:America/Kentucky/Louisville
BEGIN:DAYLIGHT
TZOFFSETFROM:-0500
TZOFFSETTO:-0400
TZNAME:EDT
DTSTART:20190310T070000
END:DAYLIGHT
BEGIN:STANDARD
TZOFFSETFROM:-0400
TZOFFSETTO:-0500
TZNAME:EST
DTSTART:20191103T060000
END:STANDARD
END:VTIMEZONE
BEGIN:VEVENT
DTSTART;TZID=America/Kentucky/Louisville:20191111T180000
DTEND;TZID=America/Kentucky/Louisville:20191111T190000
DTSTAMP:20260424T162701
CREATED:20191014T201346Z
LAST-MODIFIED:20191101T204718Z
UID:66073-1573495200-1573498800@bcplib.org
SUMMARY:Dino-Mite Stories
DESCRIPTION:Become part of the story as you travel back to when dinosaurs roamed the Earth… \nPut your safari hats on and join us for a one-of-a-kind storytime! Channel your inner archaeologist as you dig up dinosaur skeletons in the sand\, then use your discovery\, your dino IQ\, and a dash of imagination to reconstruct two dinosaurs of your very own. While you call on your creativity and dinosaur knowledge to bring your creations to life\, we’ll keep you inspired with a selection of dino-mite stories! \nPsst… When we’re done\, you’ll keep your amazing creations and our Facebook fans will vote for their favorite dinosaurs from each participating location! The winner of each fan vote will receive an awesome dinosaur prize. \nFor children of all ages.\nRegistration is required for a select number of reserved seats. Additional seating will be available on a first-come\, first-served basis. Questions? E-mail brandy@bcplib.org. \n\nWe’re sorry\, but guaranteed registration for this event is now closed.
URL:https://bcplib.org/event/dino-mite-stories-mw/
LOCATION:Mt. Washington Branch\, 214 N. Bardstown Road\, Mt. Washington\, KY\, 40047\, United States
CATEGORIES:Tweens,Kids
ORGANIZER;CN="Angel":MAILTO:angel@bcplib.org
GEO:38.0492119;-85.5430434
X-APPLE-STRUCTURED-LOCATION;VALUE=URI;X-ADDRESS=Mt. Washington Branch 214 N. Bardstown Road Mt. Washington KY 40047 United States;X-APPLE-RADIUS=500;X-TITLE=214 N. Bardstown Road:geo:-85.5430434,38.0492119
END:VEVENT
END:VCALENDAR