BEGIN:VCALENDAR
VERSION:2.0
PRODID:-//Bullitt County Public Library - ECPv5.16.4//NONSGML v1.0//EN
CALSCALE:GREGORIAN
METHOD:PUBLISH
X-WR-CALNAME:Bullitt County Public Library
X-ORIGINAL-URL:https://bcplib.org
X-WR-CALDESC:Events for Bullitt County Public Library
BEGIN:VTIMEZONE
TZID:America/Kentucky/Louisville
BEGIN:DAYLIGHT
TZOFFSETFROM:-0500
TZOFFSETTO:-0400
TZNAME:EDT
DTSTART:20220313T070000
END:DAYLIGHT
BEGIN:STANDARD
TZOFFSETFROM:-0400
TZOFFSETTO:-0500
TZNAME:EST
DTSTART:20221106T060000
END:STANDARD
END:VTIMEZONE
BEGIN:VEVENT
DTSTART;TZID=America/Kentucky/Louisville:20220525T180000
DTEND;TZID=America/Kentucky/Louisville:20220525T190000
DTSTAMP:20260421T120422
CREATED:20220510T161902Z
LAST-MODIFIED:20220712T142126Z
UID:102075-1653501600-1653505200@bcplib.org
SUMMARY:Did I Get Scammed?
DESCRIPTION:Stay a step ahead…\n \nScammers and con artists are out there. But we’ve got you covered! From identity theft and mail fraud to phishing and charity scams\, join Whitney Adkins from the Better Business Bureau to get a heads up on the latest scams and learn strategies for protecting yourself from fraudsters. \nThis is an ongoing series\, with new scams examined on the 4th Wednesday of every month. \nFor ages 18 and up. Just drop in!\nSpace will be available on a first-come\, first-served basis. Questions? Call Claire at 543-7675 ext. 2553 or e-mail claire@bcplib.org.
URL:https://bcplib.org/event/did-i-get-scammed/2022-05-25/
LOCATION:Hillview Branch\, 155 Terry Boulevard\, Hillview\, KY\, 40229\, United States
CATEGORIES:Adults
ORGANIZER;CN="Claire":MAILTO:claire@bcplib.org
GEO:38.077247;-85.688966
X-APPLE-STRUCTURED-LOCATION;VALUE=URI;X-ADDRESS=Hillview Branch 155 Terry Boulevard Hillview KY 40229 United States;X-APPLE-RADIUS=500;X-TITLE=155 Terry Boulevard:geo:-85.688966,38.077247
END:VEVENT
END:VCALENDAR