BEGIN:VCALENDAR
VERSION:2.0
PRODID:-//Bullitt County Public Library - ECPv5.16.4//NONSGML v1.0//EN
CALSCALE:GREGORIAN
METHOD:PUBLISH
X-WR-CALNAME:Bullitt County Public Library
X-ORIGINAL-URL:https://bcplib.org
X-WR-CALDESC:Events for Bullitt County Public Library
BEGIN:VTIMEZONE
TZID:America/Kentucky/Louisville
BEGIN:DAYLIGHT
TZOFFSETFROM:-0500
TZOFFSETTO:-0400
TZNAME:EDT
DTSTART:20210314T070000
END:DAYLIGHT
BEGIN:STANDARD
TZOFFSETFROM:-0400
TZOFFSETTO:-0500
TZNAME:EST
DTSTART:20211107T060000
END:STANDARD
END:VTIMEZONE
BEGIN:VEVENT
DTSTART;TZID=America/Kentucky/Louisville:20211101T173000
DTEND;TZID=America/Kentucky/Louisville:20211101T193000
DTSTAMP:20260422T204815
CREATED:20211004T194325Z
LAST-MODIFIED:20211004T194445Z
UID:97491-1635787800-1635795000@bcplib.org
SUMMARY:Día de los Muertos Storytime
DESCRIPTION:Explore new traditions and celebrate your ancestors… \nJoin us on All Saints’ Day to celebrate the Mexican holiday Día de los Muertos\, or Day of the Dead\, with a special evening storytime! Listen to a vibrant story about the traditions of Día de los Muertos. Then\, enjoy a themed craft while you watch a showing of The Book of Life. \nMOVIE DESCRIPTION:\nA young man who must decide between following his heart and fulfilling the expectations of his family. Before he can decide which path to take\, he embarks on an adventure through fantastical worlds where he must face his greatest fears. (Runtime: 1hr 35 min. Rated: PG) \nFor children of all ages. (Para niños de todas edades.) Just drop in!\nSeating and materials will be available on a first-come\, first-served basis. Questions? E-mail jillian@bcplib.org.
URL:https://bcplib.org/event/dia-de-los-muertos-storytime/
LOCATION:Lebanon Junction Branch\, 11382 S. Preston Highway\, Lebanon Junction\, KY\, 40150\, United States
CATEGORIES:Tweens,Kids
ORGANIZER;CN="Jillian":MAILTO:jillian@bcplib.org
GEO:37.8417678;-85.7287508
X-APPLE-STRUCTURED-LOCATION;VALUE=URI;X-ADDRESS=Lebanon Junction Branch 11382 S. Preston Highway Lebanon Junction KY 40150 United States;X-APPLE-RADIUS=500;X-TITLE=11382 S. Preston Highway:geo:-85.7287508,37.8417678
END:VEVENT
END:VCALENDAR