BEGIN:VCALENDAR
VERSION:2.0
PRODID:-//Bullitt County Public Library - ECPv5.16.4//NONSGML v1.0//EN
CALSCALE:GREGORIAN
METHOD:PUBLISH
X-WR-CALNAME:Bullitt County Public Library
X-ORIGINAL-URL:https://bcplib.org
X-WR-CALDESC:Events for Bullitt County Public Library
BEGIN:VTIMEZONE
TZID:America/Kentucky/Louisville
BEGIN:DAYLIGHT
TZOFFSETFROM:-0500
TZOFFSETTO:-0400
TZNAME:EDT
DTSTART:20180311T070000
END:DAYLIGHT
BEGIN:STANDARD
TZOFFSETFROM:-0400
TZOFFSETTO:-0500
TZNAME:EST
DTSTART:20181104T060000
END:STANDARD
END:VTIMEZONE
BEGIN:VEVENT
DTSTART;TZID=America/Kentucky/Louisville:20181119T180000
DTEND;TZID=America/Kentucky/Louisville:20181119T190000
DTSTAMP:20260421T203641
CREATED:20181022T160849Z
LAST-MODIFIED:20181203T195809Z
UID:39514-1542650400-1542654000@bcplib.org
SUMMARY:Cursive Course
DESCRIPTION:DID YOU KNOW… Learning cursive can improve art and literacy skills! \nCursive is a beautiful form of writing that is rarely taught in schools. Not only is it a fun and unique writing form that has many practical uses\, the movements in the writing aid with art skills as well. Please join us as Amy Waite\, a teacher at Shepherdsville Elementary School\, presents a workshop that will introduce children to this form of writing and help them learn to read and write in cursive. We hope to see you there! \nFor children ages 5–11.\nRegistration is required for a select number of reserved seats. Additional seating will be available on a first-come\, first-served basis. Questions? E-mail brandy@bcplib.org. 
URL:https://bcplib.org/event/cursive-course-hl/
LOCATION:Hillview Branch\, 155 Terry Boulevard\, Hillview\, KY\, 40229\, United States
CATEGORIES:Tweens,Kids
GEO:38.077247;-85.688966
X-APPLE-STRUCTURED-LOCATION;VALUE=URI;X-ADDRESS=Hillview Branch 155 Terry Boulevard Hillview KY 40229 United States;X-APPLE-RADIUS=500;X-TITLE=155 Terry Boulevard:geo:-85.688966,38.077247
END:VEVENT
END:VCALENDAR