BEGIN:VCALENDAR
VERSION:2.0
PRODID:-//Bullitt County Public Library - ECPv5.16.4//NONSGML v1.0//EN
CALSCALE:GREGORIAN
METHOD:PUBLISH
X-WR-CALNAME:Bullitt County Public Library
X-ORIGINAL-URL:https://bcplib.org
X-WR-CALDESC:Events for Bullitt County Public Library
BEGIN:VTIMEZONE
TZID:America/Kentucky/Louisville
BEGIN:DAYLIGHT
TZOFFSETFROM:-0500
TZOFFSETTO:-0400
TZNAME:EDT
DTSTART:20180311T070000
END:DAYLIGHT
BEGIN:STANDARD
TZOFFSETFROM:-0400
TZOFFSETTO:-0500
TZNAME:EST
DTSTART:20181104T060000
END:STANDARD
END:VTIMEZONE
BEGIN:VEVENT
DTSTART;TZID=America/Kentucky/Louisville:20180108T180000
DTEND;TZID=America/Kentucky/Louisville:20180108T190000
DTSTAMP:20260423T071934
CREATED:20171208T212124Z
LAST-MODIFIED:20171227T202217Z
UID:22612-1515434400-1515438000@bcplib.org
SUMMARY:Cuckoo for Cocoa Cups
DESCRIPTION:Winter is the best time for hot cocoa and a good book! \nJoin us to decorate your very own book-themed mug and enjoy FREE hot cocoa from the hot chocolate bar! For ages 5–12.  \nWe’re sorry\, but guaranteed registration for this session is now closed. Additional seating may be available on a first-come\, first-served basis. Guaranteed seats are still available for sessions at other locations (see below to register). \nQuestions or comments? Call Brandy  at 543-7675 ext. 2555\, or e-mail brandy@bcplib.org.
URL:https://bcplib.org/event/cuckoo-cocoa-cups/
LOCATION:Hillview Branch\, 155 Terry Boulevard\, Hillview\, KY\, 40229\, United States
CATEGORIES:Tweens,Kids
GEO:38.077247;-85.688966
X-APPLE-STRUCTURED-LOCATION;VALUE=URI;X-ADDRESS=Hillview Branch 155 Terry Boulevard Hillview KY 40229 United States;X-APPLE-RADIUS=500;X-TITLE=155 Terry Boulevard:geo:-85.688966,38.077247
END:VEVENT
END:VCALENDAR