BEGIN:VCALENDAR
VERSION:2.0
PRODID:-//Bullitt County Public Library - ECPv5.16.4//NONSGML v1.0//EN
CALSCALE:GREGORIAN
METHOD:PUBLISH
X-WR-CALNAME:Bullitt County Public Library
X-ORIGINAL-URL:https://bcplib.org
X-WR-CALDESC:Events for Bullitt County Public Library
BEGIN:VTIMEZONE
TZID:America/Kentucky/Louisville
BEGIN:DAYLIGHT
TZOFFSETFROM:-0500
TZOFFSETTO:-0400
TZNAME:EDT
DTSTART:20180311T070000
END:DAYLIGHT
BEGIN:STANDARD
TZOFFSETFROM:-0400
TZOFFSETTO:-0500
TZNAME:EST
DTSTART:20181104T060000
END:STANDARD
END:VTIMEZONE
BEGIN:VEVENT
DTSTART;TZID=America/Kentucky/Louisville:20180110T180000
DTEND;TZID=America/Kentucky/Louisville:20180110T190000
DTSTAMP:20260423T030504
CREATED:20171208T212218Z
LAST-MODIFIED:20180110T210419Z
UID:22618-1515607200-1515610800@bcplib.org
SUMMARY:Cuckoo for Cocoa Cups
DESCRIPTION:Winter is the best time for hot cocoa and a good book! \nJoin us to decorate your very own book-themed mug and enjoy FREE hot cocoa from the hot chocolate bar! \nFor ages 5–12. Guaranteed registration for this event is now closed\, but additional seating will be available on a first-come\, first-served basis.\nQuestions or comments? Call Brandy at 543-7675 ext. 2555\, or e-mail brandy@bcplib.org. \n\n 
URL:https://bcplib.org/event/cuckoo-cocoa-cups-3/
LOCATION:Ridgway Memorial Library\, 127 N. Walnut Street\, Shepherdsville\, KY\, 40165\, United States
CATEGORIES:Tweens,Kids
GEO:38.001133520394;-85.706045160467
X-APPLE-STRUCTURED-LOCATION;VALUE=URI;X-ADDRESS=Ridgway Memorial Library 127 N. Walnut Street Shepherdsville KY 40165 United States;X-APPLE-RADIUS=500;X-TITLE=127 N. Walnut Street:geo:-85.706045160467,38.001133520394
END:VEVENT
END:VCALENDAR