BEGIN:VCALENDAR
VERSION:2.0
PRODID:-//Bullitt County Public Library - ECPv5.16.4//NONSGML v1.0//EN
CALSCALE:GREGORIAN
METHOD:PUBLISH
X-WR-CALNAME:Bullitt County Public Library
X-ORIGINAL-URL:https://bcplib.org
X-WR-CALDESC:Events for Bullitt County Public Library
BEGIN:VTIMEZONE
TZID:America/Kentucky/Louisville
BEGIN:DAYLIGHT
TZOFFSETFROM:-0500
TZOFFSETTO:-0400
TZNAME:EDT
DTSTART:20200308T070000
END:DAYLIGHT
BEGIN:STANDARD
TZOFFSETFROM:-0400
TZOFFSETTO:-0500
TZNAME:EST
DTSTART:20201101T060000
END:STANDARD
END:VTIMEZONE
BEGIN:VEVENT
DTSTART;TZID=America/Kentucky/Louisville:20200327T110000
DTEND;TZID=America/Kentucky/Louisville:20200327T120000
DTSTAMP:20260424T010507
CREATED:20190715T160541Z
LAST-MODIFIED:20200326T132550Z
UID:61179-1585306800-1585310400@bcplib.org
SUMMARY:CANCELED | Creative Play
DESCRIPTION:Play is our brain’s favorite way of learning. –Diane Ackerman  \nExplore fun social activities especially tailored for the developing minds of some of our youngest patrons. This program is designed to allow children to engage with their peers\, exert more independence\, and use their imagination through cooperative learning\, creating\, and play. Enjoy a new activity at each meetup\, from fingerpainting and LEGO creations to dancing\, imaginative play with toys\, and fun with bubbles! \nCREATIVE PLAY is now offered at BCPL twice each month! \n\n3rd Friday of the month @Mt. Washington\n4th Friday of the month @Hillview\n\n\nPsst… Want to bring an older or younger sibling along with your 3- to 5-year-old?\nFeel free! Each BCPL children’s program is designed for the age noted\, but siblings are welcome to attend and take part in the activities. \nFor ages 3–5. Just drop in!\nSpace and materials will be available on a first-come\, first-served basis. Questions? E-mail brandy@bcplib.org.
URL:https://bcplib.org/event/creative-play-2-2020-03-27/
LOCATION:Hillview Branch\, 155 Terry Boulevard\, Hillview\, KY\, 40229\, United States
CATEGORIES:Kids
GEO:38.077247;-85.688966
X-APPLE-STRUCTURED-LOCATION;VALUE=URI;X-ADDRESS=Hillview Branch 155 Terry Boulevard Hillview KY 40229 United States;X-APPLE-RADIUS=500;X-TITLE=155 Terry Boulevard:geo:-85.688966,38.077247
END:VEVENT
END:VCALENDAR