BEGIN:VCALENDAR
VERSION:2.0
PRODID:-//Bullitt County Public Library - ECPv5.16.4//NONSGML v1.0//EN
CALSCALE:GREGORIAN
METHOD:PUBLISH
X-WR-CALNAME:Bullitt County Public Library
X-ORIGINAL-URL:https://bcplib.org
X-WR-CALDESC:Events for Bullitt County Public Library
BEGIN:VTIMEZONE
TZID:America/Kentucky/Louisville
BEGIN:DAYLIGHT
TZOFFSETFROM:-0500
TZOFFSETTO:-0400
TZNAME:EDT
DTSTART:20210314T070000
END:DAYLIGHT
BEGIN:STANDARD
TZOFFSETFROM:-0400
TZOFFSETTO:-0500
TZNAME:EST
DTSTART:20211107T060000
END:STANDARD
END:VTIMEZONE
BEGIN:VEVENT
DTSTART;TZID=America/Kentucky/Louisville:20211208T140000
DTEND;TZID=America/Kentucky/Louisville:20211208T153000
DTSTAMP:20260422T144358
CREATED:20211103T204947Z
LAST-MODIFIED:20220512T173450Z
UID:97787-1638972000-1638977400@bcplib.org
SUMMARY:Crafting with Gayle
DESCRIPTION:Calling all crafters… \nExplore the great wide world of crafts with Gayle! \nCome get social with fellow craft enthusiasts on the 2nd and 4th Wednesday of every month as we learn new techniques and work on fun new projects. We’ll have a crafty good time! \nFrom acrylics to wreath making\, there are endless crafts to explore! \nClick to view possible projects\nButton crafts\nClock making\nDecoupage\nJewelry making\nLeatherworking\nPainting\nPaper crafts\nScrapbooking\nThread crafts\n(crochet\, embroidery\, quilting\, sewing\, weaving\, and more!)\nUpcycled crafts\nWire projects\nWood crafts & woodburning\nWreath making\nAND MORE!\n\n \nFor ages 18 and up. Just drop in!\nSpace will be available on a first-come\, first-served basis. Questions? E-mail gayle@bcplib.org.
URL:https://bcplib.org/event/crafting-with-gayle/2021-12-08/
LOCATION:Mt. Washington Branch\, 214 N. Bardstown Road\, Mt. Washington\, KY\, 40047\, United States
CATEGORIES:Adults
ORGANIZER;CN="Gayle":MAILTO:gayle@bcplib.org
GEO:38.0492119;-85.5430434
X-APPLE-STRUCTURED-LOCATION;VALUE=URI;X-ADDRESS=Mt. Washington Branch 214 N. Bardstown Road Mt. Washington KY 40047 United States;X-APPLE-RADIUS=500;X-TITLE=214 N. Bardstown Road:geo:-85.5430434,38.0492119
END:VEVENT
END:VCALENDAR