BEGIN:VCALENDAR
VERSION:2.0
PRODID:-//Bullitt County Public Library - ECPv5.16.4//NONSGML v1.0//EN
CALSCALE:GREGORIAN
METHOD:PUBLISH
X-WR-CALNAME:Bullitt County Public Library
X-ORIGINAL-URL:https://bcplib.org
X-WR-CALDESC:Events for Bullitt County Public Library
BEGIN:VTIMEZONE
TZID:America/Kentucky/Louisville
BEGIN:DAYLIGHT
TZOFFSETFROM:-0500
TZOFFSETTO:-0400
TZNAME:EDT
DTSTART:20220313T070000
END:DAYLIGHT
BEGIN:STANDARD
TZOFFSETFROM:-0400
TZOFFSETTO:-0500
TZNAME:EST
DTSTART:20221106T060000
END:STANDARD
END:VTIMEZONE
BEGIN:VEVENT
DTSTART;TZID=America/Kentucky/Louisville:20220430T100000
DTEND;TZID=America/Kentucky/Louisville:20220430T160000
DTSTAMP:20260421T215628
CREATED:20220407T161928Z
LAST-MODIFIED:20220429T140232Z
UID:101476-1651312800-1651334400@bcplib.org
SUMMARY:Country Classics Car Show
DESCRIPTION:Cruise on over… \nStep back in time and get revved up for a fun family event showcasing classic automobiles\, tasty grub\, giveaways\, and a community spirit! Our own DJ Jazzy Mat will be providing musical entertainment with concessions from Dilla-Ville Grille and Sego’s Concessions. \nPsst…  \n\nWant to show off your classic car\, truck\, or motorcycle?\nAll makes\, models\, and years welcome. Trophies and prizes will be awarded for the following categories: Nichols Community Choice Award (in memory of Matthew Rushing)\, Knight and Shining Best in Show\, Kids’ Choice Award\, Best Exterior\, Best Interior\, Best Truck\, Best Car\, Best Motorcycle\, and  Most Unique. $20 entry fee. Contact Ashley Scamahorn at nicholsknightspta@gmail.com for more information.\nAdmission is free to the public.\n\nFor all ages. Just drop in! \nSpace and giveaways will be available on a first-come\, first-served basis. Questions? Call Kirsten at 502-430-2392 or e-mail nilassistant@bcplib.org. \n\nThis special community event is presented in partnership with the Nichols Elementary School PTA.
URL:https://bcplib.org/event/country-classics-car-show/
LOCATION:Nichols Branch\, 10729 Highway 44 West\, West Point\, KY\, 40177\, United States
CATEGORIES:Adults,Teens,Tweens,Kids,Family
GEO:38.0142396;-85.8852196
X-APPLE-STRUCTURED-LOCATION;VALUE=URI;X-ADDRESS=Nichols Branch 10729 Highway 44 West West Point KY 40177 United States;X-APPLE-RADIUS=500;X-TITLE=10729 Highway 44 West:geo:-85.8852196,38.0142396
END:VEVENT
END:VCALENDAR