BEGIN:VCALENDAR
VERSION:2.0
PRODID:-//Bullitt County Public Library - ECPv5.16.4//NONSGML v1.0//EN
CALSCALE:GREGORIAN
METHOD:PUBLISH
X-WR-CALNAME:Bullitt County Public Library
X-ORIGINAL-URL:https://bcplib.org
X-WR-CALDESC:Events for Bullitt County Public Library
BEGIN:VTIMEZONE
TZID:America/Kentucky/Louisville
BEGIN:DAYLIGHT
TZOFFSETFROM:-0500
TZOFFSETTO:-0400
TZNAME:EDT
DTSTART:20180311T070000
END:DAYLIGHT
BEGIN:STANDARD
TZOFFSETFROM:-0400
TZOFFSETTO:-0500
TZNAME:EST
DTSTART:20181104T060000
END:STANDARD
END:VTIMEZONE
BEGIN:VEVENT
DTSTART;TZID=America/Kentucky/Louisville:20180428T130000
DTEND;TZID=America/Kentucky/Louisville:20180428T140000
DTSTAMP:20260421T210513
CREATED:20180320T135721Z
LAST-MODIFIED:20180320T140246Z
UID:26412-1524920400-1524924000@bcplib.org
SUMMARY:Cookie Decorating
DESCRIPTION:Join us for a fun session with Stephanie Jessie of Heart Jaytee Cookies to learn how to decorate sugar cookies like a pro! \nFor ages 10 and up.\nRegistration is required for a select number of reserved seats. Additional seating may be available on a first-come\, first-served. Questions? E-mail brandy@bcplib.org. \nVisit Heart Jaytee Cookies on Facebook!
URL:https://bcplib.org/event/cookie-decorating-rm/
LOCATION:Ridgway Memorial Library\, 127 N. Walnut Street\, Shepherdsville\, KY\, 40165\, United States
CATEGORIES:Adults,Teens,Tweens,Family
GEO:38.001133520394;-85.706045160467
X-APPLE-STRUCTURED-LOCATION;VALUE=URI;X-ADDRESS=Ridgway Memorial Library 127 N. Walnut Street Shepherdsville KY 40165 United States;X-APPLE-RADIUS=500;X-TITLE=127 N. Walnut Street:geo:-85.706045160467,38.001133520394
END:VEVENT
END:VCALENDAR