BEGIN:VCALENDAR
VERSION:2.0
PRODID:-//Bullitt County Public Library - ECPv5.16.4//NONSGML v1.0//EN
CALSCALE:GREGORIAN
METHOD:PUBLISH
X-WR-CALNAME:Bullitt County Public Library
X-ORIGINAL-URL:https://bcplib.org
X-WR-CALDESC:Events for Bullitt County Public Library
BEGIN:VTIMEZONE
TZID:America/Kentucky/Louisville
BEGIN:DAYLIGHT
TZOFFSETFROM:-0500
TZOFFSETTO:-0400
TZNAME:EDT
DTSTART:20180311T070000
END:DAYLIGHT
BEGIN:STANDARD
TZOFFSETFROM:-0400
TZOFFSETTO:-0500
TZNAME:EST
DTSTART:20181104T060000
END:STANDARD
END:VTIMEZONE
BEGIN:VEVENT
DTSTART;TZID=America/Kentucky/Louisville:20181127T180000
DTEND;TZID=America/Kentucky/Louisville:20181127T190000
DTSTAMP:20260422T025229
CREATED:20181022T153421Z
LAST-MODIFIED:20181126T172030Z
UID:39602-1543341600-1543345200@bcplib.org
SUMMARY:Cookie Decorating
DESCRIPTION:Heart Jaytee Cookies is returning to the library\, this time spreading a little Christmas cheer. Join us as Stephanie Jessie of Heart Jaytee Cookies teaches us to decorate Christmas cookies like a pro. From snowmen to snowflakes\, you can be sure to create something cute and tasty! Whether you are hosting a Christmas party or are just wanting to show off your decorating skills\, these cookies will help you stand out from the crowd. \nFor all ages.\nRegistration is required for a select number of reserved seats. Additional seating will be available on a first-come\, first-served basis. Questions? E-mail gayle@bcplib.org. \n\nWe’re sorry\, but guaranteed registration for this event is now closed.
URL:https://bcplib.org/event/cookie-decorating-rm-2/
LOCATION:Ridgway Memorial Library\, 127 N. Walnut Street\, Shepherdsville\, KY\, 40165\, United States
CATEGORIES:Adults,Teens,Tweens,Kids,Family
ORGANIZER;CN="Gayle":MAILTO:gayle@bcplib.org
GEO:38.001133520394;-85.706045160467
X-APPLE-STRUCTURED-LOCATION;VALUE=URI;X-ADDRESS=Ridgway Memorial Library 127 N. Walnut Street Shepherdsville KY 40165 United States;X-APPLE-RADIUS=500;X-TITLE=127 N. Walnut Street:geo:-85.706045160467,38.001133520394
END:VEVENT
END:VCALENDAR