BEGIN:VCALENDAR
VERSION:2.0
PRODID:-//Bullitt County Public Library - ECPv5.16.4//NONSGML v1.0//EN
CALSCALE:GREGORIAN
METHOD:PUBLISH
X-WR-CALNAME:Bullitt County Public Library
X-ORIGINAL-URL:https://bcplib.org
X-WR-CALDESC:Events for Bullitt County Public Library
BEGIN:VTIMEZONE
TZID:America/Kentucky/Louisville
BEGIN:DAYLIGHT
TZOFFSETFROM:-0500
TZOFFSETTO:-0400
TZNAME:EDT
DTSTART:20180311T070000
END:DAYLIGHT
BEGIN:STANDARD
TZOFFSETFROM:-0400
TZOFFSETTO:-0500
TZNAME:EST
DTSTART:20181104T060000
END:STANDARD
END:VTIMEZONE
BEGIN:VEVENT
DTSTART;TZID=America/Kentucky/Louisville:20180419T180000
DTEND;TZID=America/Kentucky/Louisville:20180419T190000
DTSTAMP:20260421T201549
CREATED:20180320T135609Z
LAST-MODIFIED:20180416T125525Z
UID:26408-1524160800-1524164400@bcplib.org
SUMMARY:Cookie Decorating
DESCRIPTION:Join us for a fun session with Stephanie Jessie of Heart Jaytee Cookies to learn how to decorate sugar cookies like a pro! \nFor ages 10 and up.\nRegistration for this event is now closed\, but additional seating may be available on a first-come\, first-served. Please also consider attending at one of our other locations. Questions? E-mail brandy@bcplib.org. \nVisit Heart Jaytee Cookies on Facebook!
URL:https://bcplib.org/event/cookie-decorating-lj/
LOCATION:Lebanon Junction Branch\, 11382 S. Preston Highway\, Lebanon Junction\, KY\, 40150\, United States
CATEGORIES:Adults,Teens,Tweens,Family
GEO:37.8417678;-85.7287508
X-APPLE-STRUCTURED-LOCATION;VALUE=URI;X-ADDRESS=Lebanon Junction Branch 11382 S. Preston Highway Lebanon Junction KY 40150 United States;X-APPLE-RADIUS=500;X-TITLE=11382 S. Preston Highway:geo:-85.7287508,37.8417678
END:VEVENT
END:VCALENDAR