BEGIN:VCALENDAR
VERSION:2.0
PRODID:-//Bullitt County Public Library - ECPv5.16.4//NONSGML v1.0//EN
CALSCALE:GREGORIAN
METHOD:PUBLISH
X-WR-CALNAME:Bullitt County Public Library
X-ORIGINAL-URL:https://bcplib.org
X-WR-CALDESC:Events for Bullitt County Public Library
BEGIN:VTIMEZONE
TZID:America/Kentucky/Louisville
BEGIN:DAYLIGHT
TZOFFSETFROM:-0500
TZOFFSETTO:-0400
TZNAME:EDT
DTSTART:20190310T070000
END:DAYLIGHT
BEGIN:STANDARD
TZOFFSETFROM:-0400
TZOFFSETTO:-0500
TZNAME:EST
DTSTART:20191103T060000
END:STANDARD
END:VTIMEZONE
BEGIN:VEVENT
DTSTART;TZID=America/Kentucky/Louisville:20190202T130000
DTEND;TZID=America/Kentucky/Louisville:20190202T143000
DTSTAMP:20260422T184604
CREATED:20181211T155338Z
LAST-MODIFIED:20190201T160611Z
UID:42656-1549112400-1549117800@bcplib.org
SUMMARY:Color Your Year Pretty | How to Catch Your Dreams & Chase Them
DESCRIPTION:Let the new year be the start of a whole new you! \n \nThis year\, join BCPL and author Stephanie Feger to try a new way to face the new year with consideration\, imagination\, and inspiration. Elaborating on the life lessons she writes about in her book\, Color Today Pretty\, Feger will offer guidance and practical steps on how to change yourself and your life in 2019. At each session in this 4-part series\, participants will benefit from a thought-provoking discussion and enjoy an interactive craft offering further elaboration on the topic and/or tools for taking action! \nPART 1  | January 5th @Ridgway Memorial\nColor Today Pretty: How to Live a Life in Perspective\nThis class will serve as the launching point for your New Year’s journey and will provide a quick overview of the sessions to come. We’ll delve into the importance of shifting mindsets to focus on what will propel you to where—and who—you want to be. \nPART 2  | February 2nd @Mt. Washington\nHow to Catch Your Dreams and Chase Them\nThis class will focus on identifying your dreams and how you can integrate them into your life so that you can achieve them. \nPART 3  | March 2nd @Hillview\nBecoming Broken Beautiful\nIn the third class of our ongoing series\, we will explore how we view ourselves. Stephanie will also provide strategies for piecing together what feels broken in your life to see yourself as worthy and worth it. \nPART 4  | April 6th @Lebanon Junction\nGrowing from Where You Are Planted\nWe will end the 4-part session by discussing how you can focus on the present to create the future you want. Learn how to stop dwelling on the past and how to find opportunities to grow from where you are today. \nFor ages 16 and up.\nRegistration is required for a select number of reserved seats. Additional seating may be available on a first-come\, first-served basis. Questions? E-mail gayle@bcplib.org. \n\nWe’re sorry\, but guaranteed registration for the “How to Catch Your Dreams and Chase Them” session is now closed. However\, you may still sign up for the final two sessions of this 4-part series!
URL:https://bcplib.org/event/color-your-year-pretty-mw/
LOCATION:Mt. Washington Branch\, 214 N. Bardstown Road\, Mt. Washington\, KY\, 40047\, United States
CATEGORIES:Adults,Teens
ORGANIZER;CN="Gayle":MAILTO:gayle@bcplib.org
GEO:38.0492119;-85.5430434
X-APPLE-STRUCTURED-LOCATION;VALUE=URI;X-ADDRESS=Mt. Washington Branch 214 N. Bardstown Road Mt. Washington KY 40047 United States;X-APPLE-RADIUS=500;X-TITLE=214 N. Bardstown Road:geo:-85.5430434,38.0492119
END:VEVENT
END:VCALENDAR